Workbook

Sheet 15총괄
A1: 울산신나는아동쉼터
A3: ◎ 2015년 예산서 -세입·세출 총괄표
L4: (단위:천원)
A5: 관/항/목 | B5: 2015년도 | C5: 2014년도 | E5: 전년추경대비(a-c) | G5: 관/항/목 | H5: 2015년도 | I5: 2014년도 | K5: 전년추경대비(a-c)
B6: 본예산(a) | C6: 본예산(b) | D6: 최종추경(c) | E6: 금액 | F6: % | H6: 본예산(a) | I6: 본예산(b) | J6: 최종추경(c) | K6: 금액 | L6: %
A7: 세입계 | B7: =B8+B11+B14+B17+B19 -> 130519 | C7: =C8+C11+C14+C17+C19 -> 89013 | D7: =D8+D11+D14+D17+D19 -> 127799 | E7: =E8+E11+E14+E17+E19 -> 2720 | F7: =+B7/D7 -> 1.0212834 | G7: 세출계 | H7: =H8+H12+H15+H19+H20+H21 -> 130519.38 | I7: =I8+I12+I15+I19+I20+I21 -> 89013 | J7: =J8+J12+J15+J19+J20+J21 -> 127799 | K7: =K8+K12+K15+K19+K20+K21 -> 2720.3775 | L7: =+H7/J7 -> 1.0212864
A8: 보조금수입 | B8: =B9+B10 -> 70880 | C8: 82635 | D8: 66175 | E8: =+B8-D8 -> 4705 | F8: =+B8/D8 -> 1.0710994 | G8: 사무비 | H8: =H9+H10+H11 -> 90752.377 | I8: 52404 | J8: 83399 | K8: =+H8-J8 -> 7353.3775 | L8: =+H8/J8 -> 1.0881711
A9: 1)경상보조금 | B9: ='15세입'!E8 -> 53320 | C9: 78535 | D9: 52615 | E9: =+B9-D9 -> 705 | F9: =+B9/D9 -> 1.0133992 | G9: 1)인건비 | H9: ='15세출'!E7 -> 79542.377 | I9: 43381 | J9: 72618 | K9: =+H9-J9 -> 6924.3775 | L9: =+H9/J9 -> 1.0953535
A10: 2)기타보조금 | B10: ='15세입'!E16 -> 17560 | C10: 4100 | D10: 13560 | E10: =+B10-D10 -> 4000 | F10: =+B10/D10 -> 1.2949853 | G10: 2)업무추진비 | H10: ='15세출'!E41 -> 0 | I10: ='15세출'!I41 -> 200 | J10: 200 | K10: =+H10-J10 -> -200 | L10: =+H10/J10 -> 0
A11: 전입금 | B11: ='15세입'!E27 -> 45514 | C11: 1100 | D11: 43210 | E11: =+B11-D11 -> 2304 | F11: =+B11/D11 -> 1.053321 | G11: 3)운영비 | H11: ='15세출'!E46 -> 11210 | I11: 8823 | J11: 10580 | K11: =+H11-J11 -> 630 | L11: =+H11/J11 -> 1.0595463
A12: 1)운영전입금 | B12: ='15세입'!E29 -> 45514 | C12: 1100 | D12: 43210 | E12: =B12-D12 -> 2304 | F12: =B12/D12 -> 1.053321 | G12: 재산조성비 | H12: ='15세출'!E73 -> 1900 | I12: =SUM(I13:I14) -> 300 | J12: =J13+J14 -> 8740 | K12: =+H12-J12 -> -6840 | L12: =+H12/J12 -> 0.2173913
G13: 1)자산취득비 | H13: ='15세출'!E75 -> 1000 | I13: 200 | J13: 7840 | K13: =+H13-J13 -> -6840 | L13: =+H13/J13 -> 0.12755102
A14: 후원금수입 | B14: ='15세입'!E20 -> 5520 | C14: 2280 | D14: =SUM(D15:D16) -> 4241 | E14: =+B14-D14 -> 1279 | F14: =+B14/D14 -> 1.3015798 | G14: 2)시설장비유지비 | H14: ='15세출'!E77 -> 900 | I14: 100 | J14: 900 | K14: =+H14-J14 -> 0 | L14: 0
A15: 1) 지정후원금 | B15: ='15세입'!E23 -> 680 | C15: 600 | D15: 241 | E15: =B15-D15 -> 439 | F15: =B15/D15 -> 2.8215768 | G15: 사업비 | H15: ='15세출'!E79 -> 32222 | I15: 30896 | J15: =SUM(J16:J18) -> 25836 | K15: =+H15-J15 -> 6386 | L15: =+H15/J15 -> 1.2471745
A16: 2) 비지정후원금 | B16: ='15세입'!E25 -> 4840 | C16: 1680 | D16: 4000 | E16: =B16-D16 -> 840 | F16: =B16/D16 -> 1.21 | G16: 1. 사업비 | H16: ='15세출'!E80 -> 3314 | I16: 4436 | J16: 3996 | K16: =+H16-J16 -> -682 | L16: =+H16/J16 -> 0.82932933
A17: 이월금 | B17: ='15세입'!E38 -> 7924 | C17: 2778 | D17: 13243 | E17: =+B17-D17 -> -5319 | F17: =+B17/D17 -> 0.59835385 | G17: 2.운영비 | H17: ='15세출'!E99 -> 15311 | I17: 12250 | J17: 12730 | K17: =+H17-J17 -> 2581 | L17: =+H17/J17 -> 1.2027494
A18: 1)전년도이월금 | B18: ='15세입'!E39 -> 7924 | C18: 2778 | D18: 13243 | E18: =+B18-D18 -> -5319 | F18: =+B18/D18 -> 0.59835385 | G18: 3. 교육비 | H18: ='15세출'!E112 -> 13597 | I18: 14210 | J18: 9110 | K18: =+H18-J18 -> 4487 | L18: =+H18/J18 -> 1.4925357
A19: 잡수입 | B19: =B20+B21 -> 681 | C19: 220 | D19: 930 | E19: =+B19-D19 -> -249 | F19: =+B19/D19 -> 0.73225806 | G19: 보조금반환 | H19: ='15세출'!E122 -> 2145 | I19: 0 | J19: 1400 | K19: =+H19-J19 -> 745 | L19: =+H19/J19 -> 1.5321429
A20: 1)기타잡수입 | B20: ='15세입'!E44 -> 651 | C20: 200 | D20: 900 | E20: =+B20-D20 -> -249 | F20: =+B20/D20 -> 0.72333333 | G20: 예비비 | H20: ='15세출'!E125 -> 500 | I20: 500 | J20: 500 | K20: =+H20-J20 -> 0 | L20: =+H20/J20 -> 1
A21: 2)기타예금이자수입 | B21: ='15세입'!E46 -> 30 | C21: 200 | D21: 30 | E21: =B21-D21 -> 0 | F21: =B21/D21 -> 1 | G21: 차기사업이월금 | H21: ='15세출'!E128 -> 3000 | I21: 4913 | J21: 7924 | K21: =+H21-J21 -> -4924 | L21: =+H21/J21 -> 0.37859667

Sheet 15세입
A1: ◎ 2015년예산 세입명세서
R2: (단위: 천원,원)
A3: 관 | B3: 항 | C3: 목 | D3: 세목 | E3: 2015년도 | F3: 2014년도 | H3: 전년추경대비(a-c) | J3: 산출내역
E4: 본예산(a) | F4: 본예산(b) | G4: 최종추경(c) | H4: 금액 | I4: %
A5: 합 계 | E5: =E6+E20+E27+E38+E42 -> 130519 | F5: =F6+F20+F27+F38+F42 -> 89013 | G5: =G6+G20+G27+G38+G42 -> 127799 | H5: =E5-G5 -> 2720 | I5: =E5/G5 -> 1.0212834
A6: 보조금수입 | E6: =E7 -> 70880 | F6: 82635 | G6: =G7 -> 66175 | H6: =E6-G6 -> 4705 | I6: =E6/G6 -> 1.0710994
B7: 보조금수입 | E7: =E8+E16 -> 70880 | F7: 82635 | G7: =G8+G16 -> 66175 | H7: =E7-G7 -> 4705 | I7: =E7/G7 -> 1.0710994
C8: 경상보조금 | E8: =S8/1000 -> 53320 | F8: 78535 | G8: 52615 | H8: =E8-G8 -> 705 | I8: =E8/G8 -> 1.0133992 | Q8: 소계 | R8: = | S8: =S9+S12+S13 -> 53320000
J9: 1. 운영비 | Q9: 소계 | R9: = | S9: =S10+S11 -> 43850000
J10: 인건비 | K10: 20132500 | L10: × | M10: 2 | N10: 명 | R10: = | S10: =K10*M10 -> 40265000
J11: 운영비 | K11: 298750 | L11: × | M11: 12 | N11: 월 | R11: = | S11: =K11*M11 -> 3585000
J12: 2. 종사자처우개선비 | K12: 100000 | L12: × | M12: 2 | N12: 명 | O12: × | P12: 12 | Q12: 월 | R12: = | S12: =K12*M12*P12 -> 2400000
J13: 3.운영비(보조금)추가지원 | Q13: 소계 | R13: = | S13: =S14+S15 -> 7070000
J14: 학습보조비지원(학원등) | K14: 80000 | L14: × | M14: 7 | N14: 명 | O14: × | P14: 12 | Q14: 월 | R14: = | S14: =K14*M14*P14 -> 6720000
J15: .피복비지원 | K15: 50000 | L15: × | M15: 7 | N15: 명 | O15: × | P15: 1 | Q15: 월 | R15: = | S15: =K15*M15*P15 -> 350000
C16: 기타보조금 | E16: =S16/1000 -> 17560 | F16: 4100 | G16: 13560 | H16: =E16-G16 -> 4000 | I16: =E16/G16 -> 1.2949853 | Q16: 소계 | R16: = | S16: =S17+S18+S19 -> 17560000
J17: 1.수급비 | K17: 4240000 | L17: × | M17: 4 | N17: 회 | R17: = | S17: =K17*M17 -> 16960000
J18: 2. 공동모금회난방지원 | K18: 600000 | L18: × | M18: 1 | N18: 회 | R18: = | S18: =K18*M18 -> 600000
A20: 후원금수입 | E20: =E21 -> 5520 | F20: 2280 | G20: =G21 -> 4241 | H20: =E20-G20 -> 1279 | I20: =E20/G20 -> 1.3015798
B21: 후원금수입 | E21: =E22 -> 5520 | F21: 2280 | G21: =G22 -> 4241 | H21: =E21-G21 -> 1279 | I21: =E21/G21 -> 1.3015798
C22: 후원금 | E22: =E23+E25 -> 5520 | F22: 2280 | G22: =G23+G25 -> 4241 | H22: =E22-G22 -> 1279 | I22: =E22/G22 -> 1.3015798
D23: 지정후원금 | E23: =S24/1000 -> 680 | F23: 600 | G23: 241 | H23: =E23-G23 -> 439 | I23: =E23/G23 -> 2.8215768 | Q23: 소계 | R23: = | S23: =S24+S26 -> 5520000
J24: 지정후원금 | K24: 680000 | L24: × | M24: 1 | N24: 회 | R24: = | S24: =K24*M24 -> 680000
D25: 비지정후원금 | E25: =S26/1000 -> 4840 | F25: 1680 | G25: 4000 | H25: =E25-G25 -> 840 | I25: =E25/G25 -> 1.21
J26: 일반후원금 | K26: 4840000 | L26: × | M26: 1 | N26: 회 | R26: = | S26: =K26*M26 -> 4840000
A27: 전입금 | E27: 45514 | F27: 1100 | G27: =G28 -> 43210 | H27: =E27-G27 -> 2304 | I27: =E27/G27 -> 1.053321
B28: 전입금 | E28: 45514 | F28: 1100 | G28: 43210 | H28: =E28-G28 -> 2304 | I28: =E28/G28 -> 1.053321
C29: 운영전입금 | E29: 45514 | F29: 1100 | G29: 43210 | H29: =E29-G29 -> 2304 | I29: =E29/G29 -> 1.053321 | J29: *일반운영비 | Q29: 소계 | R29: = | S29: =S30+S31+S32+S33+S34+S35+S36+S37 -> 45513767
J30: 1.일용잡금(대체일력비) | K30: 700000 | L30: × | M30: 2 | N30: 회 | R30: = | S30: =K30*M30 -> 1400000
J31: 2.인건비부족분(명절수당등포함) | K31: 37653767 | L31: × | M31: 1 | N31: 회 | R31: = | S31: =K31*M31 -> 37653767
J32: 3.여비 | K32: 300000 | L32: × | M32: 4 | N32: 회 | R32: = | S32: =K32*M32 -> 1200000
J33: 4.시설유지비(화장실수리등) | K33: 300000 | L33: × | M33: 3 | N33: 회 | R33: = | S33: =K33*M33 -> 900000
J34: 5.자산취득비 (쉼터필요물품등) | K34: 500000 | L34: × | M34: 2 | N34: 회 | R34: = | S34: =K34*M34 -> 1000000
J35: 6. 공공요금등 | K35: 200000 | L35: × | M35: 12 | N35: 회 | R35: = | S35: =K35*M35 -> 2400000
J36: 7.직원회의(회식)비 | K36: 10000 | L36: × | M36: 3 | N36: 명 | O36: × | P36: 12 | Q36: 월 | R36: = | S36: =K36*M36*P36 -> 360000
J37: 8.기타직원교육등 | K37: 50000 | L37: × | M37: 3 | N37: 명 | O37: × | P37: 4 | Q37: 회 | R37: = | S37: =K37*M37*P37 -> 600000
A38: 이월금 | E38: =E39 -> 7924 | F38: 2778 | G38: 13243 | H38: =E38-G38 -> -5319 | I38: =E38/G38 -> 0.59835385
B39: 이월금 | E39: =E40+E41 -> 7924 | F39: 2778 | G39: 13243 | H39: =E39-G39 -> -5319 | I39: =E39/G39 -> 0.59835385 | Q39: 소계 | R39: = | S39: =S40+S41 -> 7924000
C40: 전년도사업이월금 | E40: =S40/1000 -> 3000 | F40: 2778 | G40: 9913 | H40: =E40-G40 -> -6913 | I40: =E40/G40 -> 0.30263291 | J40: 전년도사업이월금 | S40: 3000000
C41: 전년도후원금이월금 | E41: 4924 | G41: 3330 | J41: 전년도후원금이월금 | S41: 4924000
A42: 잡수입 | E42: =E43 -> 681 | F42: 220 | G42: =G43 -> 930 | H42: =E42-G42 -> -249 | I42: =E42/G42 -> 0.73225806
B43: 잡수입 | E43: =E44+E46 -> 681 | F43: 220 | G43: =G44+G46 -> 930 | H43: =E43-G43 -> -249 | I43: =E43/G43 -> 0.73225806 | Q43: 소계 | R43: = | S43: =S45+S46 -> 681000
C44: 기타잡수입 | E44: 651 | F44: 200 | G44: 900 | H44: =E44-G44 -> -249 | I44: =E44/G44 -> 0.72333333 | Q44: 계 | R44: = | S44: =S45 -> 651000
J45: 포인트잡수입 | K45: 651000 | L45: × | M45: 1 | N45: 년 | R45: = | S45: =K45*M45 -> 651000
C46: 기타예금이자수입 | E46: =S46/1000 -> 30 | F46: 20 | G46: 30 | H46: =E46-G46 -> 0 | I46: =E46/G46 -> 1 | Q46: 계 | R46: = | S46: =S47 -> 30000
J47: 예금이자수입 | K47: 30000 | L47: × | M47: 1 | N47: 년 | R47: = | S47: =K47*M47 -> 30000

Sheet 15세출
A1: ◎ 2015년예산 세출명세서
F2: 제본시 셀숨김(수입원천 구분) | V2: (단위: 천원,원)
A3: 관 | B3: 항 | C3: 목 | D3: 세목 | E3: 2015년도 | F3: 2013추경 | I3: 2014년도 | K3: 전년추경대비(a-c) | M3: 산출내역
E4: 본예산(a) | F4: 계(보조금+법인전입금) | G4: 정부보조금외 | H4: 법인전입금 | I4: 본예산(b) | J4: 최종추경(c) | K4: 금액 | L4: %
E5: =E6+E73+E79+E122+E125+E128 -> 130519.38 | F5: =F6+F73+F79+F122+F125+F128 -> 89013 | G5: =G6+G73+G79+G122+G125+G128 -> 87913 | H5: =H6+H73+H79+H122+H125+H128 -> 1100 | I5: =I6+I73+I79+I122+I125+I128 -> 89013 | J5: =J6+J73+J79+J122+J125+J128 -> 127799 | K5: =+E5-J5 -> 2720.3775 | L5: =+E5/J5 -> 1.0212864
A6: 사무비 | E6: =E7+E41+E46 -> 90752.377 | F6: =F7+F41+F46 -> 52404 | G6: =G7+G41+G46 -> 51304 | H6: =H7+H41+H46 -> 1100 | I6: 52404 | J6: 83399 | K6: =+E6-J6 -> 7353.3775 | L6: =+E6/J6 -> 1.0881711
B7: 인건비 | E7: =E8+E18+E29+E31+E37+E39 -> 79542.377 | F7: =F8+F18+F29+F31+F37+F39 -> 43381 | G7: =G8+G18+G29+G31+G37+G39 -> 42281 | H7: =H8+H18+H29+H31+H37+H39 -> 1100 | I7: =I8+I18+I29+I31+I37+I39 -> 43381 | J7: =J8+J18+J29+J31+J37+J39 -> 72618 | K7: =E7-J7 -> 6924.3775 | L7: =E7/J7 -> 1.0953535
C8: 급여 | E8: =V8/1000 -> 57566 | F8: =G8+H8 -> 31200 | G8: 31200 | H8: 0 | I8: 31200 | J8: 52924 | K8: =E8-J8 -> 4642 | L8: =SUM(E8/J8) -> 1.0877107 | T8: 소계 | U8: = | V8: =V9+V12+V15 -> 57566000
M9: 1.시설장 급여 | V9: =V10+V11 -> 21406000
M10: - 4호봉(5개월) | N10: 1750000 | O10: × | P10: 1 | Q10: 명 | R10: × | S10: 5 | T10: 월 | U10: = | V10: =N10*P10*S10 -> 8750000
M11: - 5호봉(7개월) | N11: 1808000 | O11: × | P11: 1 | Q11: 명 | R11: × | S11: 7 | T11: 월 | U11: = | V11: =N11*P11*S11 -> 12656000
M12: 2.보육사 급여 | V12: =V13+V14 -> 18264000
M13: - 1호봉(6개월) | N13: 1476000 | O13: × | P13: 1 | Q13: 명 | R13: × | S13: 6 | T13: 월 | U13: = | V13: =N13*P13*S13 -> 8856000
M14: - 2호봉(6개월) | N14: 1568000 | O14: × | P14: 1 | Q14: 명 | R14: × | S14: 6 | T14: 월 | U14: = | V14: =N14*P14*S14 -> 9408000
M15: 3.보육사 급여 | V15: =V16+V17 -> 17896000
M16: - 1호봉(10개월) | N16: 1476000 | O16: × | P16: 1 | Q16: 명 | R16: × | S16: 10 | T16: 월 | U16: = | V16: =N16*P16*S16 -> 14760000
M17: - 2호봉(2개월) | N17: 1568000 | O17: × | P17: 1 | Q17: 명 | R17: × | S17: 2 | T17: 월 | U17: = | V17: =N17*P17*S17 -> 3136000
C18: 제수당 | E18: =V18/1000 -> 8940 | F18: =G18+H18 -> 4519 | G18: 4519 | H18: 0 | I18: 4519 | J18: 7704 | K18: =E18+J18 -> 16644 | L18: =E18/J18 -> 1.1604361 | T18: 소계 | U18: = | V18: =V19+V26+V28+V27 -> 8940000
M19: 1.초과근무 | V19: =SUM(V20:V25) -> 4140000
M20: - 시설장 | N20: 126000 | O20: × | P20: 1 | Q20: 명 | R20: × | S20: 5 | T20: 월 | U20: = | V20: =N20*P20*S20 -> 630000
N21: 130000 | O21: × | P21: 1 | Q21: 명 | R21: × | S21: 7 | T21: 월 | U21: = | V21: =N21*P21*S21 -> 910000
M22: - 보육사 1 | N22: 106000 | O22: × | P22: 1 | Q22: 명 | R22: × | S22: 6 | T22: 월 | U22: = | V22: =N22*P22*S22 -> 636000
N23: 113000 | O23: × | P23: 1 | Q23: 명 | R23: × | S23: 6 | T23: 월 | U23: = | V23: =N23*P23*S23 -> 678000
M24: - 보육사 2 | N24: 106000 | O24: × | P24: 1 | Q24: 명 | R24: × | S24: 10 | T24: 월 | U24: = | V24: =N24*P24*S24 -> 1060000
N25: 113000 | O25: × | P25: 1 | Q25: 명 | R25: × | S25: 2 | T25: 월 | U25: = | V25: =N25*P25*S25 -> 226000
M26: 2.가계보조수당 | N26: 100000 | O26: × | P26: 3 | Q26: 명 | R26: × | S26: 12 | T26: 월 | U26: = | V26: =N26*P26*S26 -> 3600000
M27: 3.시설장직책수당 | N27: 50000 | O27: × | P27: 1 | Q27: 명 | R27: × | S27: 12 | T27: 월 | U27: = | V27: =N27*P27*S27 -> 600000
M28: 4.명절수당(설,추석) | N28: 200000 | O28: × | P28: 3 | Q28: 명 | U28: = | V28: =N28*P28 -> 600000
C29: 퇴직금및적립금 | E29: =V29/1000 -> 5542.1667 | F29: =G29+H29 -> 2977 | G29: 2977 | H29: 0 | I29: 2977 | J29: 4000 | K29: =E29-J29 -> 1542.1667 | L29: =E29/J29 -> 1.3855417 | T29: 소계 | U29: = | V29: =SUM(V30) -> 5542166.7
M30: 퇴직적립금 | N30: =V8+V18 -> 66506000 | O30: / | P30: 12 | Q30: 월 | U30: = | V30: =N30/P30 -> 5542166.7
C31: 사회보험부담금 | E31: =V31/1000 -> 6094.2108 | F31: =G31+H31 -> 3209 | G31: 3209 | H31: 0 | I31: 3209 | J31: 5446 | K31: =E31-J31 -> 648.2108 | L31: =E31/J31 -> 1.1190251 | T31: 소계 | V31: =SUM(V32:V36) -> 6094210.8
M32: 1.국민연금 | N32: =N30 -> 66506000 | O32: × | P32: 0.045 | U32: = | V32: =N32*P32 -> 2992770
M33: 2.건강보험 | N33: =N30 -> 66506000 | O33: × | P33: 0.028 | U33: = | V33: =N33*P33 -> 1862168
M34: 3.장기요양보험 | N34: =V33 -> 1862168 | O34: × | P34: 0.0655 | U34: = | V34: =N34*P34 -> 121972
M35: 4.고용보험 | N35: =N30 -> 66506000 | O35: × | P35: 0.009 | U35: = | V35: =N35*P35 -> 598554
M36: 5.산재보험 | N36: =N30 -> 66506000 | O36: × | P36: 0.0078 | U36: = | V36: =N36*P36 -> 518746.8
C37: 기타후생경비 | F37: =G37+H37 -> 776 | G37: 376 | H37: 400 | I37: 776 | J37: 1144 | K37: =E37-J37 -> -1144 | L37: =E37/J37 -> 0 | T37: 소계 | U37: =
C39: 일용잡금 | E39: =V39/1000 -> 1400 | F39: =G39+H39 -> 700 | G39: 0 | H39: 700 | I39: 700 | J39: 1400 | K39: =E39-J39 -> 0 | L39: =E39/J39 -> 1 | T39: 소계 | U39: = | V39: =V40 -> 1400000
M40: 1.대체인력일비지급 | N40: 700000 | O40: × | P40: 2 | Q40: 회 | U40: = | V40: =N40*P40 -> 1400000
B41: 업무추진비 | E41: =E42+E44 -> 0 | F41: =F44 -> 200 | G41: =G44 -> 200 | H41: =H44 -> 0 | I41: 200 | J41: 200 | K41: =E41-J41 -> -200 | L41: =E41/J41 -> 0
C42: 기관운영비
M43: 1.기관운영비
C44: 회의비 | E44: 0 | F44: =G44+H44 -> 200 | G44: 200 | H44: 0 | I44: 200 | J44: 200 | K44: =+E44-J44 -> -200 | L44: =+E44/J44 -> 0 | T44: 소계 | U44: = | V44: =V45 -> 0
M45: 1.회의비(그룹홈회의등) | U45: = | V45: =N45*P45 -> 0
B46: 운영비 | E46: =E47+E50+E52+E60+E67+E71 -> 11210 | F46: =F47+F50+F52+F60+F67+F71 -> 8823 | G46: =G47+G50+G52+G60+G67+G71 -> 8823 | H46: =H47+H50+H52+H60+H67+H71 -> 0 | I46: =I47+I50+I52+I60+I67+I71 -> 8823 | J46: =J47+J50+J52+J60+J67+J71 -> 10580 | K46: =E46-J46 -> 630 | L46: =E46/J46 -> 1.0595463 | T46: 소계 = | V46: =V47+V50+V52+V60+V67+V71 -> 11210000
C47: 복리후생비 | E47: 360 | F47: =G47+H47 -> 0 | G47: 0 | H47: 0 | I47: 0 | J47: 0 | K47: =+E47-J47 -> 360 | L47: =+E47/J47 -> #DIV/0! | T47: 소계 | U47: = | V47: =V48 -> 360000
M48: 1.직원회의(회식)비 | N48: 10000 | O48: × | P48: 3 | Q48: 명 | R48: × | S48: 12 | T48: 월 | U48: = | V48: =N48*P48*S48 -> 360000
C50: 여비 | E50: =V50/1000 -> 1200 | F50: =G50+H50 -> 300 | G50: 300 | H50: 0 | I50: 300 | J50: 1200 | K50: =+E50-J50 -> 0 | L50: =+E50/J50 -> 1 | T50: 소계 | U50: = | V50: =SUM(V51:V51) -> 1200000
M51: 1.출장교통비 | N51: 300000 | O51: × | P51: 4 | Q51: 회 | U51: = | V51: =N51*P51 -> 1200000
C52: 수용비및수수료 | E52: =V52/1000 -> 1366 | F52: =G52+H52 -> 1084 | G52: 1084 | H52: 0 | I52: 1084 | J52: 1564 | K52: =+E52-J52 -> -198 | L52: =+E52/J52 -> 0.87340153 | T52: 소계 | U52: = | V52: =V53+V54+V55+V56+V57+V58+V59 -> 1366000
M53: 1.퇴직연금관리수수료 | N53: 3000 | O53: × | P53: 12 | Q53: 월 | U53: = | V53: =N53*P53 -> 36000
M54: 2.공인인증갱신수수료 | N54: 5000 | O54: × | P54: 1 | Q54: 회 | U54: = | V54: =N54*P54 -> 5000
M55: 3.집기구입비 | N55: 100000 | O55: × | P55: 4 | Q55: 회 | U55: = | V55: =N55*P55 -> 400000
M56: 4.프린트대여비 | N56: 40000 | O56: × | P56: 12 | Q56: 월 | U56: = | V56: =N56*P56 -> 480000
M57: 5.신용카드연회비 | N57: 5000 | O57: × | P57: 1 | Q57: 회 | U57: = | V57: =N57*P57 -> 5000
M58: 6.정수기렌탈료 | N58: 20000 | O58: × | P58: 12 | Q58: 월 | U58: = | V58: =N58*P58 -> 240000
M59: 7.문구용품등 소모금구입비 | N59: 100000 | O59: × | P59: 2 | Q59: 회 | U59: = | V59: =N59*P59 -> 200000
C60: 공공요금 | E60: =V60/1000 -> 7104 | F60: =G60+H60 -> 6159 | G60: 6159 | H60: 0 | I60: 6159 | J60: 6717 | K60: =+E60-J60 -> 387 | L60: =+E60/J60 -> 1.057615 | T60: 소계 | U60: = | V60: =SUM(V61:V66) -> 7104000
M61: 1.도시가스요금 | N61: 300000 | O61: × | P61: 12 | Q61: 월 | U61: = | V61: =N61*P61 -> 3600000
M62: 2.전기요금 | N62: 100000 | O62: × | P62: 12 | Q62: 월 | U62: = | V62: =N62*P62 -> 1200000
M63: 3.상하수도요금 | N63: 100000 | O63: × | P63: 12 | Q63: 월 | U63: = | V63: =N63*P63 -> 1200000
M64: 4.전화요금 | N64: 50000 | O64: × | P64: 12 | Q64: 월 | U64: = | V64: =N64*P64 -> 600000
M65: 5.인터넷요금 | N65: 12000 | O65: × | P65: 12 | Q65: 월 | U65: = | V65: =N65*P65 -> 144000
M66: 6.우편요금등 | N66: 36000 | O66: × | P66: 10 | Q66: 회 | U66: = | V66: =N66*P66 -> 360000
C67: 제세공과금 | E67: =V67/1000 -> 980 | F67: =G67+H67 -> 1080 | G67: 1080 | H67: 0 | I67: 1080 | J67: 899 | K67: =+E67-J67 -> 81 | L67: =+E67/J67 -> 1.0901001 | T67: 소계 | U67: = | V67: =V68+V69+V70 -> 980000
M68: 1.자동차보험료(레이9050) | N68: 800000 | O68: × | P68: 1 | Q68: 대 | U68: = | V68: =N68*P68 -> 800000
M69: 2.자동차세(레이9050) | N69: 100000 | O69: × | P69: 1 | Q69: 회 | U69: = | V69: =N69*P69 -> 100000
M70: 3.신원보증보험료 | N70: 40000 | O70: × | P70: 2 | Q70: 명 | U70: = | V70: =N70*P70 -> 80000
C71: 차량비 | E71: =V71/1000 -> 200 | F71: =G71+H71 -> 200 | G71: 200 | H71: 0 | I71: 200 | J71: 200 | K71: =+E71-J71 -> 0 | L71: =+E71/J71 -> 1 | T71: 소계 | U71: = | V71: =SUM(V72:V72) -> 200000
M72: 1.차량정비유지비 | N72: 100000 | O72: × | P72: 2 | Q72: 월 | U72: = | V72: =+N72*P72 -> 200000
A73: 재산조성비 | E73: =E74 -> 1900 | F73: =F74 -> 300 | G73: =G74 -> 300 | H73: =H74 -> 0 | I73: =I74 -> 300 | J73: =J74 -> 8740 | K73: =+E73-J73 -> -6840 | L73: =+E73/J73 -> 0.2173913
B74: 시설비 | E74: =E75+E77 -> 1900 | F74: =F75+F77 -> 300 | G74: =G75+G77 -> 300 | H74: =H75+H77 -> 0 | I74: =I75+I77 -> 300 | J74: =J75+J77 -> 8740 | K74: =+E74-J74 -> -6840 | L74: =+E74/J74 -> 0.2173913 | T74: 소계 | U74: = | V74: =V76+V77 -> 1900000
C75: 자산취득비 | E75: =V75/1000 -> 1000 | F75: =G75+H75 -> 200 | G75: 200 | H75: 0 | I75: 200 | J75: 7840 | K75: =+E75-J75 -> -6840 | L75: =+E75/J75 -> 0.12755102 | T75: 소계 | U75: = | V75: =SUM(V76:V76) -> 1000000
M76: 1.비품구입 | N76: 500000 | O76: × | P76: 2 | Q76: 회 | U76: = | V76: =N76*P76 -> 1000000
C77: 시설장비유지비 | E77: =V77/1000 -> 900 | F77: =G77+H77 -> 100 | G77: 100 | H77: 0 | I77: 100 | J77: 900 | K77: 0 | L77: 0 | T77: 소계= | V77: =SUM(V78) -> 900000
M78: 1.시설유지비 | N78: 300000 | O78: × | P78: 3 | Q78: 회 | U78: = | V78: =N78*P78 -> 900000
A79: 사업비 | E79: =E80+E99+E112 -> 32222 | F79: =F80+F99+F112 -> 30896 | G79: =G80+G99+G112 -> 30896 | H79: =H80+H99+H112 -> 0 | I79: 30896 | J79: 25836 | K79: =+E79-J79 -> 6386 | L79: =+E79/J79 -> 1.2471745
B80: 사업비 | E80: =E81+E83+E85+E88+E91+E93+E98 -> 3314 | F80: =F81+F85+F88+F91+F94+F98 -> 4436 | G80: =G81+G85+G88+G91+G94+G98 -> 4436 | H80: =H81+H85+H88+H91+H94+H98 -> 0 | I80: =I81+I83+I85+I88+I91+I93+I98 -> 4436 | J80: =J81+J83+J85+J88+J91+J93+J98 -> 3996 | K80: =E80-J80 -> -682 | L80: =E80/J80 -> 0.82932933
C81: 아동안전교육 | E81: =V81/1000 -> 264 | F81: =G81+H81 -> 50 | G81: 50 | H81: 0 | K81: =+E81-J81 -> 264 | T81: 소계 | U81: = | V81: =V82 -> 264000
M82: 1.인권교육등 사업진행재료구입비 | N82: 264000 | O82: × | P82: 1 | Q82: 회 | U82: = | V82: =N82*P82 -> 264000
C83: 공동체특별활동 | E83: =V83/1000 -> 420 | T83: 소계 | U83: = | V83: =V84 -> 420000
M84: 1.다도및심리운동재료구입비 | N84: 210000 | O84: × | P84: 2 | Q84: 회 | U84: = | V84: =N84*P84 -> 420000
C85: 위생비 | E85: =V85/1000 -> 480 | F85: =G85+H85 -> 586 | G85: 586 | H85: 0 | I85: 586 | J85: 336 | K85: =E85-J85 -> 144 | L85: =E85/J85 -> 1.4285714 | T85: 소계 | U85: = | V85: =V86+V87 -> 480000
M86: 1.이미용비 | N86: 10000 | O86: × | P86: 5 | Q86: 명 | R86: × | S86: 6 | T86: 회 | U86: = | V86: =N86*P86*S86 -> 300000
M87: 2.목욕비 | N87: 6000 | O87: × | P87: 5 | Q87: 명 | R87: × | S87: 6 | T87: 회 | U87: = | V87: =N87*P87*S87 -> 180000
C88: 행사비 | E88: =V88/1000 -> 690 | F88: =G88+H88 -> 1000 | G88: 1000 | H88: 0 | I88: 1000 | J88: 1080 | K88: =E88-J88 -> -390 | L88: =E88/J88 -> 0.63888889 | T88: 소계 | U88: = | V88: =V89+V90 -> 690000
M89: 1.행사비(생일잔치) | N89: 30000 | O89: × | P89: 3 | Q89: 명 | R89: × | S89: 5 | T89: 회 | U89: = | V89: =N89*P89*S89 -> 450000
M90: 2.문화생활체험비(외식,영화등) | N90: 20000 | O90: × | P90: 3 | Q90: 명 | R90: × | S90: 4 | T90: 회 | U90: = | V90: =N90*P90*S90 -> 240000
C91: 우정사업 | E91: 0 | F91: =G91+H91 -> 2800 | G91: 2800 | H91: 0 | I91: 2800 | J91: 0 | K91: =E91-J91 -> 0
C93: 운영관리사업 | E93: =V93/1000 -> 1460 | I93: 50 | J93: 50 | K93: =E93-J93 -> 1410 | L93: =E93/J93 -> 29.2 | T93: 소계 | U93: = | V93: =V94+V95+V96+V97 -> 1460000
F94: =G94+H94 -> 0 | G94: 0 | H94: 0 | I94: 0 | J94: 0 | K94: =E94-J94 -> 0 | M94: 1.자원육성(후원.자원봉사등)관리비 | N94: 150000 | O94: × | P94: 2 | Q94: 회 | U94: = | V94: =N94*P94 -> 300000
M95: 2. 운영위원회(회의비등) | N95: 200000 | O95: × | P95: 2 | Q95: 회 | U95: = | V95: =N95*P95 -> 400000
M96: 3. 직원교육(의무교육등) | N96: 50000 | O96: × | P96: 3 | Q96: 명 | R96: × | S96: 4 | T96: 회 | U96: = | V96: =N96*P96*S96 -> 600000
M97: 3-1. 기타교육 | N97: 40000 | O97: × | P97: 4 | Q97: 회 | U97: = | V97: =N97*P97 -> 160000
C98: 현대자동차 | E98: 0 | F98: =G98+H98 -> 0 | G98: 0 | H98: 0 | I98: 0 | J98: 2530 | K98: =E98-J98 -> -2530 | L98: =E98/J98 -> 0
B99: 운영비 | E99: =E100+E102+E104+E107 -> 15311 | F99: =F100+F102+F104+F107 -> 12250 | G99: =G100+G102+G104+G107 -> 12250 | H99: =H100+H102+H104+H107 -> 0 | I99: =I100+I102+I104+I107 -> 12250 | J99: =J100+J102+J104+J107 -> 12730 | K99: =E99-J99 -> 2581 | L99: =E99/J99 -> 1.2027494 | T99: 소계 | U99: = | V99: =V100+V102+V104+V107 -> 15311000
C100: 생계비 | E100: =V100/1000 -> 10200 | F100: =G100+H100 -> 8640 | G100: 8640 | H100: 0 | I100: 8640 | J100: 8400 | K100: =E100-J100 -> 1800 | L100: =E100/J100 -> 1.2142857 | T100: 소계 | U100: = | V100: =V101 -> 10200000
M101: 1.부식및간식비 | N101: 850000 | O101: × | P101: 12 | Q101: 월 | U101: = | V101: =N101*P101 -> 10200000
C102: 수용기관경비 | E102: =V102/1000 -> 1800 | F102: =G102+H102 -> 960 | G102: 960 | H102: 0 | I102: 960 | J102: 1200 | K102: =E102-J102 -> 600 | L102: =E102/J102 -> 1.5 | T102: 소계 | U102: = | V102: =V103 -> 1800000
M103: 1.생필품구입 | N103: 150000 | O103: × | P103: 12 | Q103: 월 | U103: = | V103: =N103*P103 -> 1800000
...

Sheet 2015사업계획서
A1: 시설명 : 울산신나는아동쉼터 2015년 사업계획서 | H1: (단위:천원)
A2: 사업 분류 | C2: 세부사업명 | D2: 계 획 | G2: 사 업 개 요 | H2: 기 대 효 과
D3: 목 표 (명, 건) | E3: 예 산
E4: 세 입 | F4: 세 출
A5: 총 계 | D5: =D6+D12+D16+D25+D28+D39 -> 8628 | E5: =E6+E12+E16+E25+E28+E39 -> 32222 | F5: =F6+F12+F16+F25+F28+F33+F39 -> 32222
A6: 아동보호사업 | B6: 보호보육 합계 | D6: =D7+D8+D9+D10+D11 -> 5549 | E6: =E7+E8+E9+E10+E11 -> 14430 | F6: =F7+F8+F9+F10+F11 -> 14430
B7: 보호보육사업 | C7: 일일보호 | D7: 1825 | G7: * 대상 : 아동보호전문기관 및 시군구의 요청에 의한 학대피해아동 및 요보호 아동 * 인원 : 월 평균 입소인원 5명 * 365일 = 1825명 * 시기 : 연 중(입소기간은 3개월로 1회 연장 가능함.) * 내용 : 24시간 보호보육등 | H7: * 학대 피해아동의 심신의 안정 및 신체 기능강화 * 원가정 복귀를 위한 정상적 생활습관 형성 * 새로운 환경에서 변화되는 아동들의 지지 및 격려자로서의 역할
C8: 위생지도 | D8: 1825 | E8: 180 | F8: 180 | G8: * 인원 : 목욕 - 월 평균 입소인원 5명 * 6회 = 30명 샤워 및 세안 - 월 평균 인원 5명 * 365일 = 1825명 * 시기 : 목욕 - 월 1회 샤워 및 세안 - 매일 * 내용 :6,000원(목욕비)*5명*6회=180,000원 | H8: * 위생에 대한 교육 및 습관 형성 * 깨끗한 몸 상태로 가꾸어 건강 유지 및 영양적인 식상활지원
C9: 이미용 | D9: 60 | E9: 300 | F9: 300 | G9: * 인원 : 월 평균 입소인원 5명 * 12개월 * 월 1회 = 60명 * 시기 : 월 1회 * 내용 : 10,000원( 이미용등)*5명*6회=300,000
C10: 의복지원 | D10: 14 | E10: 1950 | F10: 1950 | G10: * 인원 : 월 평균 서비스 지원 인원 7명 * 년 2회 = 14명 * 시기 : 수시 * 내용 : 7명* 150,000원(의복,속옥,신발,침구류등)*2회=2,100,000원
C11: 생활지원 | D11: 1825 | E11: 12000 | F11: 12000 | G11: * 인원 : 월 평균 서비스 지원 인원 5명 * 365일 =1,825명 * 시기 : 매일 * 내용 - 주부식비(수용기관경비등) : 1000,000원*12개월=12,000,000원
B12: 의료사업 소계 | D12: =D13+D14+D15 -> 66 | E12: =E13+E14+E15 -> 1361 | F12: =F13+F14+F15 -> 1361
A13: 아동보호사업 | B13: 의료지원사업 | C13: 건강검진 | D13: 21 | E13: 300 | F13: 300 | G13: * 대상 : 쉼터 입소 아동 중 중, 장기 보호를 받을 아동 * 인원 : 월 별 예상 신규 입소 아동 7명 * 3회 = 21명 * 시기 : 수시(입소 후 1주일 이내로 1회 실시) * 내용 - 7명*3회*20,000원=420,000원 | H13: * 입소당시 아동의 건강 상태 확인 * 단체 생활에서 일어날 수 있는 전염병의 예방
C14: 응급치료 | D14: 9 | E14: 540 | F14: 540 | G14: * 인원 : 3명 *3회 = 9명 * 시기 : 수시 * 내용 : 응급상황 발생시 119 혹은 인근 병원(동강병원) 응급실을 방문하여 응급처치 실시 * 내역:70,000원*3명*3회=630,000원 | H14: * 치료를 통한 정상적 심신의 기능 강화
C15: 병원진료 | D15: 36 | E15: 521 | F15: 521 | G15: * 인원 : 평균지원대상 3명 * 12개월 = 36명 * 시기 : 수시 * 내용 : 소아과, 소아정신과등 보호아동의 건강 이상시 인근 병원을 방문 전문적인 의료서비스 지원 *내역:540,000원(약품구입등)
A16: 교육문화사업 | B16: 교육사업 소계 | D16: =D17+D18+D19+D20+D23+D24 -> 2616 | E16: =E17+E18+E19+E20+E23+E24 -> 14281 | F16: =F17+F18+F19+F20+F23+F24 -> 14281
B17: 교육사업 | C17: 경제교육 | D17: 144 | E17: 1040 | F17: 1040 | G17: * 대상 : 쉼터 입소 아동중 수급비지원 아동 * 인원 : 평균 서비스 지원 대상 3명 * 월 4회 * 6개월 = 72명 * 시기 : 월1회(수급비 지급후 ) * 금액 : 1,040,000원 * 내용 : 용돈기입장을 통한 개별 용돈관리 지도/ 경제 교육 미취학 아동 : 10,000원 초.중학생 : 20,000원 고등학생: 30,000원 | H17: * 적당한 용돈지급 및 사용 지도로 만족감 형성/도벽예방 * 시설에서의 개인생활에 대한 존중
C18: 교육(학습)지원 | D18: 24 | E18: 5837 | F18: 5837 | G18: * 인원 : 평균 서비스 지원 대상 3명 * 2회* 4분기 = 24명 * 시기 : 주 1회 이상 * 금액 : 5,837,000원 * 내용 : 미취학 어린이집,방과후, 수련회 ,야외체험행사과 학용품,교통비등 비용지원 | H18: * 부족하기 쉬운 학교 교육의 보충으로 학습 수준 향상 * 다양한 분야의 방과 후 수업을 통해 자신만의 재능 발견 및 스트레스 해소
C19: 특기적성함양(학원등) | D19: 288 | E19: 6720 | F19: 6720 | G19: * 대상 : 학원 교육이 가능한 6세 이상의 아동 * 인원 : 평균 서비스 지원 대상 2명 * 월1회*12월=24명 * 시기 : 주 1회 이상 * 내역 : 80,000원*7명*12회=6,720,000원(보조금추가) * 내용 : 학원 및 과외등을 이용한 교과 학습 및 특기적성(예체능, 태권도등 포함) 교육 | H19: * 학교 교육의 보충으로 학습 수준 향상 * 개별 아동의 소질 및 잠재력 계발
A20: 교육문화사업 | B20: 교육사업 | C20: 학습 및 숙제지도 | D20: 1825 | G20: * 인원 : 월 평균 입소인원 5명 * 365일 = 1825명 * 시기 : 연중 * 내용 : 숙제 및 준비물 일일점검 및 준비지도 | H20: * 시설 내 아동학습에 대한 지속적인 개별지도로 학습수준 향상 * 숙제 및 준비물 점검등 통해 정상적인 학교 생활 습관 형성
C23: 아동안전교육( 5대의무교육) | D23: 95 | E23: 264 | F23: 264 | G23: * 인원 : 월 평균 입소 인원 5명 * 19회 = 95명 * 내역: 50,000원(진행재료구입비)*4회=200,000원 * 시기 : 교통안전 교육 연 6회(2,4,6,8,10,11월) 성폭력 예방교육 연 2회 (7,10월) 약물오남용예방교육 연 4회(3,5,7,11월) 재난대비교육 연 2회(8, 11월) 실종유괴예방방지교육 연 4회(1,5,8,10월) 인권 교육 연 1회 (9월) * 내용 : 각 종 위험 상황에 대한 대처법 및 예방수칙 교육/UN아동권리협약에 대한 기본권 교육 | H23: * 위급상황시 대처방법 습득, 안전규칙의 생활화를 통한 안전한 생활 도모 * 아동권리가 무엇인지 인지하고, 자아존중감 향상
C24: 공동체특별활동 | D24: 240 | E24: 420 | F24: 420 | G24: * 인원 : 평균 서비스 지원 대상 3명 * 2회*4주* 10월 = 240명 * 시기 : 주2회 이상 * 내역 : 20,000원(프로그램진행재료비등)*3명*10회=600,000원 * 내용 : 다도프로그램, 공동체놀이(게임)활동, 심리운동등 | H24: * 공동체특별활동을 통해 스트레스해소 * 특별활동을 통해 정서적 안정 및 유대감 강화
B25: 문화체험 소계 | D25: =D26+D27 -> 78 | E25: =E26+E27 -> 690 | F25: =F26+F27 -> 690
A26: 문화지원사업 | B26: 문화지원 | C26: 생일잔치 | D26: 18 | E26: 450 | F26: 450 | G26: * 인원 : 월 평균 입소 인원 3명 * 6회= 18명 * 시기 : 수시 * 내역 : 30,000원(생일잔치 및선물비)*3명*6회 = 540,000원 * 내용 : 입소아동의 생일 해당월에 생일잔치를 통해 자아존중감 향상 | H26: * 생일잔치를 통한 자아존중함 향상 * 다양한 경험을 통한 잠재력 강화 * 일상생활의 스트레스 해소 및 유대감 강화
C27: 여가(문화)생활지원 | D27: 60 | E27: 240 | F27: 240 | G27: * 인원 : 생일 : 월 평균 입소 인원 5명 * 월 1회 * 12개월 = 60명 * 시기 : 수시 * 내역 : 30,000원* 3명*10월=600,000원 * 내용 : 외식하기(월1회), 영화등 문화생활( 년2회), 야외산책(월1회), 실내놀이터(월1회),노래방등 | H27: * 여가(문화)생활지원으로로 사회성 증진, 자아존중감 향상
A28: 심리치료 | B28: 심리치료 소계 | D28: =D29+D30+D31+D32 -> 144 | E28: =E29+E30+E31+E32 -> 0 | F28: 0
B29: 심리치료 | C29: 심리검사 | D29: 24 | E29: 0 | F29: 0 | G29: * 대상 : 쉼터 입소 아동 중 중, 장기 보호 아동 * 인원 : 월 평균 신규 입소 아동 2명 * 각 1회 * 12개월 = 24명 * 시기 : 입소 후 1개월 이내 * 내용 : 아동보호전문기관과 연계되어 본기관 2층에서 심리검사 실시 | H29: * 심리 검사를 통하여 아동에게 알맞은 보호보육 서비스 및 훈육 방법 제공 * 건강한 심신 발달 도모
C30: 미술치료 | D30: 75 | E30: 0 | F30: 0 | G30: * 대상 : 쉼터 입소 아동 중 심리치료가 필요하다고 판단되는 아동 * 인원 : 연 평균 서비스 이용 인원 5명 * 15회기 = 75명 * 시기 : 수시 * 내용 : 아동보호전문기관과 연계되어 본기관 2층에서 미술치료 실시 | H30: * 학대피해 아동의 심리적 문제행동 감소 및 아동의 건강한 심신발달 도모 * 부적응 행동 감소 및 사회성 향상
C31: 놀이치료 | D31: 45 | E31: 0 | F31: 0 | G31: * 대상 : 쉼터 입소 아동 중 심리치료가 필요하다고 판단되는 아동 * 인원 : 연 평균 서비스 이용 인원 3명 * 15회기 = 45명 * 시기 : 수시 * 내용 : 아동보호전문기관과 연계되어 본기관 2층에서 미술치료 실시
A33: 아동상담사업 | B33: 상담 소계 | D33: =D34+D35+D36 -> 540 | E33: 0 | F33: 0
B34: 아동상담지원사업 | C34: 아동상담 | D34: 240 | E34: 0 | F34: 0 | G34: * 인원 : 월 평균 입소 아동 5명 * 주 1회 * 4주 * 12개월 = 240명 * 시기 : 수시 및 계획상담 * 내용 : 학교 생활, 쉼터 생활 및 훈육을 위한 아동과의 개별상담 | H34: * 개별적 상담을 통해 자아존중감 강화 * 문제발생시 조언과 도움을 얻을 줄 아는 습관의 형성 * 문제행동에 대한 인권존중적 주의지도
C35: 유관기관상담 | D35: 240 | E35: 0 | F35: 0 | G35: * 인원 : 월 평균 입소 아동 5명 * 주 1회 * 4주 * 12개월 = 240명 * 시기 : 수시 * 내용 : 입소아동과 관련된 1층아동보호전문기관 상담원, 학교, 학원,유치원등과의 상담실시 | H35: * 아동을 둘러싸고 있는 중요한 지역사회 자원들과의 관계 형성 및 상담을 통해 아동에게 보다 나은 서비스 제공 * 아동 개별 장기적인 목표설정 대한 전문적 조언
C36: 가족상담 | D36: 60 | E36: 0 | F36: 0 | G36: * 인원 : 월 평균 입소 아동 5명 * 월 1회 *10개월 = 50명 * 시기 : 수시 * 내용 : 아동의 쉼터 생활, 외출, 외박등과 관련하여 아동의 원가족과 상담 실시
A39: 운영관리사업 | B39: 운영관리사업 소계 | D39: =D40+D41+D42+D43 -> 175 | E39: =E40+E41+E42+E43 -> 1460 | F39: =F40+F41+F42+F43 -> 1460
B40: 운영관리사업 | C40: 자원봉사자관리 | D40: 120 | E40: 150 | F40: 150 | G40: * 대상 : 쉼터 봉사를 원하는 지역주민 * 인원 : 월 평균 봉사 인원 10명 * 12개월 = 120명 * 시기 : 연중 * 자원봉사 관리비 : 150,000원 * 내용 : 자원봉사자 관리 및 자원봉사 실적관리 | H40: * 일상생활 및 행사시 부족한 일손 충족 * 아동과 자원봉사자간의 지속적인 관계는 아동의 안정감, 사회성 향상에 도움
C41: 후원자관리 | D41: 36 | E41: 150 | F41: 150 | G41: * 대상 : 쉼터 후원을 원하는 지역주민 * 인원 : 월 평균 후원 인원 3명 * 12개월 = 36명 * 시기 : 연중 * 후원자관리비 : 150,000원 * 내용 : 후원자 관리 및 기부금 영수증등 관련서류 관리/후원물품 관리 | H41: * 쉼터 내 필요한 생필품 및 아동 간식, 아동 주식 제공 * 문화체험 및 외식 후원으로 아동들의 스트레스 해소 및 다양한 경험 제공
C42: 직원교육비 | D42: 9 | E42: 760 | F42: 760 | G42: * 대상 : 쉼터 직원3명 * 인원 : 3명* 년3회= 9명 * 시기 : 연중 * 내역 : 50000원 * 3명* 4분기 = 760,000원 * 내용 : 피해학대쉼터 법정의무교육(5대교육)이수 및 그룹홈 실무교육,회계교육등 | H42: * 쉼터 직원들의 교육을 통해 소진예방 및 전문성 강과
C43: 운영위원회 | D43: 10 | E43: 400 | F43: 400 | G43: * 대상 : 운영위원 * 인원 : 5명 * 2회이상 = 10명 * 시기 : 년2회이상 * 내용 : 예산계획 및 결산등 보고, 쉼터내 업무진행등 보고 | H43: * 쉼 * 문화체험 및 외식 후원으로 아동들의 스트레스 해소 및 다양한 경험 제공

Sheet 예산편성 주요내용
A2: 1. 세입
A3: - 명절연휴비 : 200,000*3명 = 600,000원 증액
A4: - 직원회식비 : 30,000원*12회 = 360,000원 증액
A5: - 후원금 : 840,000원 증액
A6: - 이월금 수정 : 160,000원 감액
A8: 2. 세출
A9: - 인건비(명절연휴비) 600,000원 증액
A10: - 운영비(회식비) 360,000원 증액
A11: - 인건비 ( 4대보험 및 퇴직금 등 )223,000원 증액
A12: - 사업비 (교통비, 용돈) 457,000원 증액
