Workbook

Sheet 총괄
A1: 울산신나는아동쉼터
A3: ◎ 2015년 추경예산서 -세입·세출 총괄표
J4: (단위:천원)
A5: 관/항/목 | B5: 2015년도 | D5: 전년추경대비(b-a) | F5: 관/항/목 | G5: 2015년도 | I5: 전년추경대비(b-a)
B6: 본예산(a) | C6: 추경(b) | D6: 금액 | E6: % | G6: 본예산(a) | H6: 추경(b) | I6: 금액 | J6: %
A7: 세입계 | B7: =B8+B12+B16+B19+B23 -> 130519 | C7: =C8+C12+C16+C19+C23 -> 167977 | D7: =C7-B7 -> 37458 | E7: =C7/B7 -> 1.2869927 | F7: 세출계 | G7: =G8+G26+G30+G34+G35+G36+G37 -> 130519 | H7: =H8+H26+H30+H34+H35+H36+H37 -> 167977 | I7: =I8+I26+I30+I34+I35+I36+I37 -> 37458 | J7: =H7/G7 -> 1.2869927
A8: 보조금수입 | B8: =B9 -> 70880 | C8: =C9 -> 129600 | D8: =C8-B8 -> 58720 | E8: =C8/B8 -> 1.8284424 | F8: 사무비 | G8: =G9+G16+G19 -> 90752 | H8: =H9+H16+H19 -> 111841 | I8: =I9+I16+I19 -> 21089 | J8: =H8/G8 -> 1.2323806
A9: 1.보조금수입 | B9: =B11+B10 -> 70880 | C9: =C11+C10 -> 129600 | D9: =C9-B9 -> 58720 | E9: =C9/B9 -> 1.8284424 | F9: 1.인건비 | G9: =SUM(G10:G15) -> 79542 | H9: =SUM(H10:H15) -> 99415 | I9: =H9-G9 -> 19873 | J9: =H9/G9 -> 1.2498429
A10: 1)경상보조금 | B10: ='15세입'!E8 -> 53320 | C10: ='15세입'!F8 -> 124000 | D10: =C10-B10 -> 70680 | E10: =C10/B10 -> 2.3255814 | F10: 1)급여 | G10: ='15세출'!H8 -> 57566 | H10: ='15세출'!I8 -> 70114 | I10: =H10-G10 -> 12548 | J10: =H10/G10 -> 1.2179759
A11: 2)기타보조금 | B11: ='15세입'!E18 -> 17560 | C11: ='15세입'!F18 -> 5600 | D11: =C11-B11 -> -11960 | E11: =C11/B11 -> 0.31890661 | F11: 2)제수당 | G11: ='15세출'!H16 -> 8940 | H11: ='15세출'!I16 -> 10903 | I11: =H11-G11 -> 1963 | J11: =H11/G11 -> 1.2195749
A12: 후원금수입 | B12: =B13 -> 5520 | C12: =C13 -> 2900 | D12: =C12-B12 -> -2620 | E12: =C12/B12 -> 0.52536232 | F12: 3)퇴직금 및 퇴직적립금 | G12: ='15세출'!H32 -> 5542 | H12: ='15세출'!I32 -> 6751 | I12: =H12-G12 -> 1209 | J12: =H12/G12 -> 1.2181523
A13: 1.후원금수입 | B13: =B15+B14 -> 5520 | C13: =C15+C14 -> 2900 | D13: =C13-B13 -> -2620 | E13: =C13/B13 -> 0.52536232 | F13: 4)사회보험부담금 | G13: ='15세출'!H34 -> 6094 | H13: ='15세출'!I34 -> 10247 | I13: =H13-G13 -> 4153 | J13: =H13/G13 -> 1.68149
A14: 1) 지정후원금 | B14: ='15세입'!E24 -> 680 | C14: ='15세입'!F24 -> 500 | D14: =C14-B14 -> -180 | E14: =C14/B14 -> 0.73529412 | F14: 5)기타후생경비 | G14: ='15세출'!H40 -> 0 | H14: ='15세출'!I40 -> 0 | I14: =H14-G14 -> 0
A15: 2) 비지정후원금 | B15: ='15세입'!E26 -> 4840 | C15: ='15세입'!F26 -> 2400 | D15: =C15-B15 -> -2440 | E15: =C15/B15 -> 0.49586777 | F15: 6)일용잡금 | G15: ='15세출'!H43 -> 1400 | H15: ='15세출'!I43 -> 1400 | I15: =H15-G15 -> 0 | J15: =H15/G15 -> 1
A16: 전입금 | B16: =B18 -> 45514 | C16: =C18 -> 16015 | D16: =C16-B16 -> -29499 | E16: =C16/B16 -> 0.35186975 | F16: 2.업무추진비
A17: 1.법인전입금 | B17: =B18 -> 45514 | C17: =C18 -> 16015 | D17: =C17-B17 -> -29499 | E17: =C17/B17 -> 0.35186975 | F17: 1)기관운영비
A18: 1)운영전입금 | B18: ='15세입'!E30 -> 45514 | C18: ='15세입'!F30 -> 16015 | D18: =C18-B18 -> -29499 | E18: =C18/B18 -> 0.35186975 | F18: 2)회의비
A19: 이월금 | B19: =B20 -> 7924 | C19: =C20 -> 19191 | D19: =C19-B19 -> 11267 | E19: =C19/B19 -> 2.4218829 | F19: 3.운영비 | G19: =SUM(G20:G25) -> 11210 | H19: =SUM(H20:H25) -> 12426 | I19: =SUM(I20:I25) -> 1216 | J19: =H19/G19 -> 1.1084746
A20: 1.이월금 | B20: =B21+B22 -> 7924 | C20: =C21+C22 -> 19191 | D20: =C20-B20 -> 11267 | E20: =C20/B20 -> 2.4218829 | F20: 1)여비 | G20: ='15세출'!H49 -> 1200 | H20: ='15세출'!I49 -> 1480 | I20: =H20-G20 -> 280 | J20: =H20/G20 -> 1.2333333
A21: 1)전년도사업이월금 | B21: ='15세입'!E37 -> 3000 | C21: ='15세입'!F37 -> 11324 | D21: =C21-B21 -> 8324 | E21: =C21/B21 -> 3.7746667 | F21: 2)수용비 및 수수료 | G21: ='15세출'!H51 -> 1366 | H21: ='15세출'!I51 -> 1806 | I21: =H21-G21 -> 440 | J21: =H21/G21 -> 1.3221083
A22: 2)전년도후원이월금 | B22: ='15세입'!E38 -> 4924 | C22: ='15세입'!F38 -> 7867 | D22: =C22-B22 -> 2943 | F22: 3)공공요금 | G22: ='15세출'!H58 -> 7104 | H22: ='15세출'!I58 -> 6900 | I22: =H22-G22 -> -204 | J22: =H22/G22 -> 0.97128378
A23: 잡수입 | B23: =B24 -> 681 | C23: =C24 -> 271 | D23: =C23-B23 -> -410 | E23: =C23/B23 -> 0.3979442 | F23: 4)제세공과금 | G23: ='15세출'!H65 -> 980 | H23: ='15세출'!I65 -> 1180 | I23: =H23-G23 -> 200 | J23: =H23/G23 -> 1.2040816
A24: 1.잡수입 | B24: =B26+B25 -> 681 | C24: =C26+C25 -> 271 | D24: =C24-B24 -> -410 | E24: =C24/B24 -> 0.3979442 | F24: 5)차량비 | G24: 200 | H24: ='15세출'!I69 -> 580 | I24: =H24-G24 -> 380
A25: 1)기타예금이자수입 | B25: ='15세입'!E43 -> 30 | C25: ='15세입'!F43 -> 80 | D25: =C25-B25 -> 50 | E25: =C25/B25 -> 2.6666667 | F25: 6)기타운영비 | G25: ='15세출'!H71 -> 360 | H25: ='15세출'!I71 -> 480 | I25: =H25-G25 -> 120
A26: 2)기타잡수입 | B26: ='15세입'!E41 -> 651 | C26: ='15세입'!F41 -> 191 | D26: =C26-B26 -> -460 | E26: =C26/B26 -> 0.29339478 | F26: 재산조성비 | G26: =G27 -> 1900 | H26: =H27 -> 8160 | I26: =I27 -> 6260 | J26: =H26/G26 -> 4.2947368
F27: 1.시설비 | G27: =G28+G29 -> 1900 | H27: =H28+H29 -> 8160 | I27: =I28+I29 -> 6260 | J27: =H27/G27 -> 4.2947368
F28: 1)자산취득비 | G28: ='15세출'!H75 -> 1000 | H28: ='15세출'!I75 -> 5000 | I28: =H28-G28 -> 4000 | J28: =H28/G28 -> 5
F29: 2)시설장비유지비 | G29: ='15세출'!H79 -> 900 | H29: ='15세출'!I79 -> 3160 | I29: =H29-G29 -> 2260 | J29: =H29/G29 -> 3.5111111
F30: 사업비 | G30: =G31+G32+G33 -> 32222 | H30: =H31+H32+H33 -> 30085 | I30: =I31+I32+I33 -> -2137 | J30: =H30/G30 -> 0.93367885
F31: 1.사업비 | G31: ='15세출'!H83 -> 3314 | H31: ='15세출'!I83 -> 3814 | I31: =H31-G31 -> 500 | J31: =H31/G31 -> 1.1508751
F32: 2.운영비 | G32: ='15세출'!H98 -> 15311 | H32: ='15세출'!I98 -> 17811 | I32: =H32-G32 -> 2500 | J32: =H32/G32 -> 1.1632813
F33: 3.교육비 | G33: ='15세출'!H112 -> 13597 | H33: ='15세출'!I112 -> 8460 | I33: =H33-G33 -> -5137 | J33: =H33/G33 -> 0.62219607
F34: 반납금 | G34: ='15세출'!H123 -> 2145 | H34: ='15세출'!I123 -> 6532 | I34: =H34-G34 -> 4387 | J34: =H34/G34 -> 3.0452214
F35: 잡지출 | G35: ='15세출'!H126 -> 0 | H35: ='15세출'!I126 -> 0 | I35: =H35-G35 -> 0
F36: 예비비 | G36: ='15세출'!H127 -> 500 | H36: ='15세출'!I127 -> 500 | I36: =H36-G36 -> 0
F37: 차기이월금 | G37: ='15세출'!H128 -> 3000 | H37: ='15세출'!I128 -> 10859 | I37: =H37-G37 -> 7859 | J37: =H37/G37 -> 3.6196667

Sheet 15세입
A1: ◎ 2015년추경예산 세입명세서
P2: (단위: 천원,원)
A3: 관 | B3: 항 | C3: 목 | D3: 세목 | E3: 2015년도 | G3: 현예산대비(b-a) | I3: 산출내역
E4: 15본예산(a) | F4: 추경(b) | G4: 금액 | H4: %
A5: 합 계 | E5: =E6+E21+E28+E35+E39 -> 130519 | F5: =F6+F21+F28+F35+F39 -> 167977 | G5: =F5-E5 -> 37458 | H5: =F5/E5*100% -> 1.2869927 | P5: 총계 | Q5: = | R5: =R6+R21+R28+R35+R39 -> 167976544
A6: 보조금수입 | E6: =E7 -> 70880 | F6: =F7 -> 129600 | G6: =F6-E6 -> 58720 | H6: =F6/E6*100% -> 1.8284424 | P6: 소계 | Q6: = | R6: =R8+R18 -> 129600000
B7: 보조금수입 | E7: =E8+E18 -> 70880 | F7: =F8+F18 -> 129600 | G7: =F7-E7 -> 58720 | H7: =F7/E7*100% -> 1.8284424
C8: 경상보조금 | E8: 53320 | F8: 124000 | G8: =F8-E8 -> 70680 | H8: =F8/E8*100% -> 2.3255814 | P8: 소계 | Q8: = | R8: =R9+R12+R15 -> 124000000
G9: =F9-E9 -> 0 | I9: 1. 인건비 | P9: 소계 | Q9: = | R9: =R10+R11 -> 82000000
I10: 인건비(국비) | J10: 32800000 | K10: × | L10: 1 | M10: 회 | Q10: = | R10: =J10*L10 -> 32800000
I11: 인건비(시비) | J11: 49200000 | K11: × | L11: 1 | M11: 회 | Q11: = | R11: =J11*L11 -> 49200000
I12: 2. 운영비 | J12: 12000000 | K12: × | L12: 1 | M12: 회 | Q12: = | R12: =J12*L12 -> 12000000
I13: 운영비(국비) | J13: 4800000 | K13: × | L13: 1 | M13: 회 | Q13: = | R13: =J13*L13 -> 4800000
I14: 운영비(시비) | J14: 7200000 | K14: × | L14: 1 | M14: 회 | Q14: = | R14: =J14*L14 -> 7200000
I15: 3.사업비 | P15: 소계 | Q15: = | R15: 30000000
I16: 사업비(국비) | J16: 12000000 | K16: × | L16: 1 | M16: 회 | Q16: = | R16: =J16*L16 -> 12000000
I17: 사업비(시비) | J17: 18000000 | K17: × | L17: 1 | M17: 회 | Q17: = | R17: =J17*L17 -> 18000000
C18: 기타보조금 | E18: 17560 | F18: 5600 | G18: =F18-E18 -> -11960 | H18: =F18/E18*100% -> 0.31890661 | P18: 소계 | Q18: = | R18: =R19+R20 -> 5600000
I19: 1.수급비 | J19: 3600000 | K19: × | L19: 1 | M19: 회 | Q19: = | R19: =J19*L19 -> 3600000
I20: 2. 공동모금회지원 | J20: 2000000 | K20: × | L20: 1 | M20: 회 | Q20: = | R20: =J20*L20 -> 2000000
A21: 후원금수입 | E21: =E22 -> 5520 | F21: =F22 -> 2900 | G21: =F21-E21 -> -2620 | H21: =F21/E21*100% -> 0.52536232 | P21: 소계 | Q21: = | R21: =R22 -> 2900000
B22: 후원금수입 | E22: 5520 | F22: =F23+F25 -> 2900 | G22: =F22-E22 -> -2620 | H22: =F22/E22*100% -> 0.52536232 | P22: 소계 | Q22: = | R22: =R24 -> 2900000
C23: 후원금 | E23: 5520 | F23: =F24+F26 -> 2900 | G23: =F23-E23 -> -2620 | H23: =F23/E23*100% -> 0.52536232
D24: 지정후원금 | E24: 680 | F24: 500 | G24: =F24-E24 -> -180 | H24: =F24/E24*100% -> 0.73529412 | P24: 소계 | Q24: = | R24: =R25+R27 -> 2900000
G25: =F25-E25 -> 0 | I25: 지정후원금 | J25: 500000 | K25: × | L25: 1 | M25: 회 | Q25: = | R25: =J25*L25 -> 500000
D26: 비지정후원금 | E26: 4840 | F26: 2400 | G26: =F26-E26 -> -2440 | H26: =F26/E26*100% -> 0.49586777
G27: =F27-E27 -> 0 | I27: 일반후원금 | J27: 2400000 | K27: × | L27: 1 | M27: 회 | Q27: = | R27: =J27*L27 -> 2400000
A28: 전입금 | E28: 45514 | F28: 16015 | G28: =F28-E28 -> -29499 | H28: =F28/E28*100% -> 0.35186975 | P28: 소계 | Q28: = | R28: =R30 -> 16014669
B29: 전입금 | E29: 45514 | F29: 16015 | G29: =F29-E29 -> -29499 | H29: =F29/E29*100% -> 0.35186975
C30: 운영전입금 | E30: 45514 | F30: 16015 | G30: =F30-E30 -> -29499 | H30: =F30/E30*100% -> 0.35186975 | I30: *일반운영비 | P30: 소계 | Q30: = | R30: =R31+R32+R33+R34 -> 16014669
I31: 1. 퇴직적립금 | J31: 364000 | K31: × | L31: 12 | M31: 회 | Q31: = | R31: 4368000
I32: 2. 사회보험부담금부족금액 | J32: 853889 | K32: × | L32: 12 | M32: 회 | Q32: = | R32: 10246669
I33: 3. 수당(명절) | J33: 100000 | K33: × | L33: 4 | M33: 명 | O33: × | P33: 2회 | Q33: = | R33: 800000
I34: 4.직책수당(시설장) | J34: 50000 | K34: × | L34: 12 | M34: 회 | Q34: = | R34: =J34*L34 -> 600000
A35: 이월금 | E35: =E36 -> 7924 | F35: =F36 -> 19191 | G35: =F35-E35 -> 11267 | H35: =F35/E35*100% -> 2.4218829 | P35: 소계 | Q35: = | R35: =R36 -> 19190801
B36: 이월금 | E36: 7924 | F36: =F37+F38 -> 19191 | G36: =F36-E36 -> 11267 | H36: =F36/E36*100% -> 2.4218829 | P36: 소계 | Q36: = | R36: =R37+R38 -> 19190801
C37: 전년도사업이월금 | E37: 3000 | F37: 11324 | G37: =F37-E37 -> 8324 | H37: =F37/E37*100% -> 3.7746667 | I37: 전년도사업이월금 | R37: 11323560
C38: 전년도후원금이월금 | E38: 4924 | F38: 7867 | G38: =F38-E38 -> 2943 | I38: 전년도후원금이월금 | R38: 7867241
A39: 잡수입 | E39: =E40 -> 681 | F39: =F40+F42 -> 271 | G39: =F39-E39 -> -410 | H39: =F39/E39*100% -> 0.3979442 | P39: 소계 | Q39: = | R39: =R40 -> 271074
B40: 잡수입 | E40: 681 | F40: =F41+F43 -> 271 | G40: =F40-E40 -> -410 | H40: =F40/E40*100% -> 0.3979442 | P40: 소계 | Q40: = | R40: =R42+R43 -> 271074
...

Sheet 15세출
A1: ◎ 2015년추경예산 세출명세서
E2: 제본시 셀숨김(수입원천 구분) | U2: (단위: 천원,원)
A3: 관 | B3: 항 | C3: 목 | D3: 세목 | E3: 2013추경 | H3: 2015년도 | J3: 전년추경대비(a-c) | L3: 산출내역
E4: 계(보조금+법인전입금) | F4: 정부보조금외 | G4: 법인전입금 | H4: 15본예산(a) | I4: 추경(b) | J4: 금액 | K4: %
E5: =E6+E73+E82+#REF!+#REF!+E128 -> #REF! | F5: =F6+F73+F82+#REF!+#REF!+F128 -> #REF! | G5: =G6+G73+G82+#REF!+#REF!+G128 -> #REF! | H5: 130519 | I5: =I6+I73+I82++I126+I128+I123+I127 -> 167977 | J5: =J6+J73+J82++J126+J128+J123+J127 -> 37458 | K5: =I5/H5*100% -> 1.2869927 | S5: 총계= | U5: =U6+U73+U82++U126+U128+U123+U127 -> 1.6797654e+08
A6: 사무비 | E6: =E7+E45+E48 -> #REF! | F6: =F7+F45+F48 -> #REF! | G6: =G7+G45+G48 -> #REF! | H6: 90752 | I6: =I7+I45+I48 -> 111841 | J6: =I6-H6 -> 21089 | K6: =I6/H6*100% -> 1.2323806 | S6: 소계= | U6: =U7+U45+U48 -> 1.1184087e+08
B7: 인건비 | E7: =E8+E16+E32+E34+E40+E43 -> 43381 | F7: =F8+F16+F32+F34+F40+F43 -> 42281 | G7: =G8+G16+G32+G34+G40+G43 -> 1100 | H7: 79542 | I7: =I8+I16+I32+I34+I40+I43 -> 99415 | J7: =I7-H7 -> 19873 | K7: =I7/H7*100% -> 1.2498429 | S7: 소계 | T7: = | U7: =U8+U16+U32+U34+U40+U43 -> 99414869
C8: 급여 | E8: =F8+G8 -> 31200 | F8: 31200 | G8: 0 | H8: 57566 | I8: 70114 | J8: =I8-H8 -> 12548 | K8: =I8/H8*100% -> 1.2179759 | S8: 소계 | T8: = | U8: =U9+U12+U14 -> 70114000
L9: 1.시설장 급여(보조금) | U9: =U10+U11 -> 21406000
L10: - 4호봉(5개월) | M10: 1750000 | N10: × | O10: 1 | P10: 명 | Q10: × | R10: 5 | S10: 월 | T10: = | U10: =M10*O10*R10 -> 8750000
L11: - 5호봉(7개월) | M11: 1808000 | N11: × | O11: 1 | P11: 명 | Q11: × | R11: 7 | S11: 월 | T11: = | U11: =M11*O11*R11 -> 12656000
L12: 2.보육사 급여(보조금) | U12: =U13 -> 35424000
L13: - 1호봉(12개월) | M13: 1476000 | N13: × | O13: 2 | P13: 명 | Q13: × | R13: 12 | S13: 월 | T13: = | U13: =M13*O13*R13 -> 35424000
L14: 3. 심리치료사 급여(보조금) | U14: =U15 -> 13284000
L15: - 1호봉(9개월) | M15: 1476000 | N15: × | O15: 1 | P15: 명 | Q15: × | R15: 9 | S15: 월 | T15: = | U15: =M15*O15*R15 -> 13284000
C16: 제수당 | E16: =F16+G16 -> 4519 | F16: 4519 | G16: 0 | H16: 8940 | I16: 10903 | J16: =I16-H16 -> 1963 | K16: =I16/H16*100% -> 1.2195749 | S16: 소계 | T16: = | U16: =U17+U22+U28+U29+U30+U31 -> 10902800
L17: 1. 명절휴가비(보조금) | U17: =U18+U19+U20+U21 -> 6562800
L18: - 시설장 | M18: =M10 -> 1750000 | N18: × | O18: 0.6 | T18: = | U18: =M18*O18 -> 1050000
M19: =M11 -> 1808000 | N19: × | O19: 0.6 | T19: = | U19: =M19*O19 -> 1084800
L20: - 보육사 2 | M20: =M13*2 -> 2952000 | N20: × | O20: 0.6 | Q20: × | R20: 2 | S20: 회 | T20: = | U20: =M20*O20*R20 -> 3542400
L21: - 심리치료사1 | M21: 1476000 | N21: × | O21: 0.6 | T21: = | U21: =M21*O21 -> 885600
L22: 2.가족수당(배우자,자녀) | U22: =U23+U24+U25+U26+U27 -> 2940000
L23: - 시설장(보조금) | M23: 60000 | N23: × | O23: 1 | P23: 명 | Q23: × | R23: 12 | S23: 월 | T23: = | U23: =M23*O23*R23 -> 720000
L24: - 보육사(보조금) | M24: 80000 | N24: × | O24: 1 | P24: 명 | Q24: × | R24: 12 | S24: 월 | T24: = | U24: =M24*O24*R24 -> 960000
L25: - 보육사(보조금) | M25: 60000 | N25: × | O25: 1 | P25: 명 | Q25: × | R25: 12 | S25: 월 | T25: = | U25: =M25*O25*R25 -> 720000
L26: - 심리치료사(보조금) | M26: 60000 | N26: × | O26: 1 | P26: 명 | Q26: × | R26: 9 | S26: 회 | T26: = | U26: =M26*O26*R26 -> 540000
L28: 3. 시설장직책수당(전입금) | M28: 50000 | N28: × | O28: 1 | P28: 명 | Q28: × | R28: 12 | S28: 월 | T28: = | U28: =M28*O28*R28 -> 600000
L29: 4. 명절수당등(전입금) | M29: 100000 | N29: × | O29: 4 | P29: 명 | Q29: × | R29: 2 | S29: 회 | T29: = | U29: =M29*O29*R29 -> 800000
C32: 퇴직금및적립금 | E32: =F32+G32 -> 2977 | F32: 2977 | G32: 0 | H32: 5542 | I32: 6751 | J32: =I32-H32 -> 1209 | K32: =I32/H32*100% -> 1.2181523 | S32: 소계 | T32: = | U32: =SUM(U33) -> 6751400
L33: 퇴직적립금(전입금)(보조금:2,383,000) | M33: =U8+U16 -> 81016800 | N33: / | O33: 12 | P33: 월 | T33: = | U33: =M33/O33 -> 6751400
C34: 사회보험부담금 | E34: =F34+G34 -> 3209 | F34: 3209 | G34: 0 | H34: 6094 | I34: 10247 | J34: =I34-H34 -> 4153 | K34: =I34/H34*100% -> 1.68149 | S34: 소계 | U34: =U35+U36+U37+U38+U39 -> 10246669
L35: 1.국민연금(전입금) | M35: =M33 -> 81016800 | N35: × | O35: 0.045 | T35: = | U35: =M35*O35 -> 3645756
L36: 2.건강보험(전입금) | M36: =M33 -> 81016800 | N36: × | O36: 0.0607 | T36: = | U36: =M36*O36 -> 4917719.8
L37: 3.장기요양보험(전입금) | M37: =U36 -> 4917719.8 | N37: × | O37: 0.0655 | T37: = | U37: =M37*O37 -> 322110.64
L38: 4.고용보험(전입금) | M38: =M33 -> 81016800 | N38: × | O38: 0.009 | T38: = | U38: =M38*O38 -> 729151.2
L39: 5.산재보험(전입금) | M39: =M33 -> 81016800 | N39: × | O39: 0.0078 | T39: = | U39: =M39*O39 -> 631931.04
C40: 기타후생경비 | E40: =F40+G40 -> 776 | F40: 376 | G40: 400 | H40: 0 | J40: =I40-H40 -> 0 | K40: =I40/H40*100% -> #DIV/0! | S40: 소계 | T40: = | U40: =U41+U42 -> 0
L41: 1.직원경조사비
L42: 2.자녀출생비
C43: 일용잡금 | E43: =F43+G43 -> 700 | F43: 0 | G43: 700 | H43: 1400 | I43: 1400 | J43: =I43-H43 -> 0 | K43: =I43/H43*100% -> 1 | S43: 소계 | T43: = | U43: =U44 -> 1400000
...

Sheet 요약서
A1: 기관명 : | B1: 울산신나는아동쉼터
K2: 단위: 원
A3: 항목 | C3: 2015 본예산 | D3: 2015 추경 | E3: 증감률(%) | F3: 자금출처 | K3: 비고
F4: 보조금 | G4: 법인자부담 | H4: 이월금 | I4: 후원금 | J4: 기타(수급비등) | K4: (증감사유 및 세부내역 설명)
A5: 합계 | C5: =C6+C13+C29+C46 -> 130519 | D5: =D6+D13+D29+D46 -> 167977 | E5: =D5/C5 -> 1.2869927 | F5: =F6+F13+F29+F46 -> 124000 | G5: =G6+G13+G29+G46 -> 16015 | H5: =H6+H13+H29+H46 -> 19191 | I5: =I6+I13+I29+I46 -> 4900 | J5: =J6+J13+J29+J46 -> 3871
A6: 인건비 | B6: 소계 | C6: =C7+C8+C9+C10+C11+C12 -> 79542 | D6: =D7+D8+D9+D10+D11+D12 -> 99415 | E6: =D6/C6 -> 1.2498429 | F6: =F7+F8+F9+F10+F11+F12 -> 82000 | G6: =G7+G8+G9+G10+G11+G12 -> 16015 | H6: =H7+H8+H9+H10+H11+H12 -> 0 | I6: =I7+I8+I9+I10+I11+I12 -> 1400 | J6: =J7+J8+J9+J10+J11+J12 -> 0
B7: 급여 | C7: 57566 | D7: 70114 | E7: =D7/C7 -> 1.2179759 | F7: =D7 -> 70114 | G7: 0 | K7: 심리치료사1명(1호봉 정규직, 9개월)채용으로17,269천원 증액
B8: 제수당 | C8: 8940 | D8: 10903 | E8: =D8/C8 -> 1.2195749 | F8: =D8-G8 -> 9503 | G8: 1400 | K8: 국비전환으로 직원4명에 대한 가족수당,효도휴가비(설,명절)등 3,601천원 증액
B9: 퇴직적립금 | C9: 5542 | D9: 6751 | E9: =D9/C9 -> 1.2181523 | F9: 2383 | G9: =D9-F9 -> 4368 | K9: 국비전환으로 직원4명에 대해 퇴직금 3,266증액
B10: 사회보험 | C10: 6094 | D10: 10247 | E10: =D10/C10 -> 1.68149 | G10: =D10-F10 -> 10247 | K10: 국비전환으로 직원4명에 대해 사회보험부담금 5,093천원 증액
B11: 기타후생경비 | C11: 0 | D11: 0 | E11: =D11/C11 -> #DIV/0!
B12: 일용잡금 | C12: 1400 | D12: 1400 | E12: =D12/C12 -> 1 | I12: 1400 | K12: 직원휴가(여름)시 대체인력 580천원증액
A13: 운영비 | B13: 소계 | C13: =C14+C17+C24 -> 13110 | D13: =D14+D17+D24 -> 20586 | E13: =D13/C13 -> 1.5702517 | F13: =F14+F17+F24 -> 12000 | G13: =G14+G17+G24 -> 0 | H13: =H14+H17+H24 -> 6586 | I13: =I14+I17+I24 -> 2000 | J13: =J14+J17+J24 -> 0
A14: 업무추진비 | B14: 계 | C14: =C15+C16 -> 0 | D14: 0 | F14: =F15+F16 -> 0 | H14: =H15+H16 -> 0 | I14: =I15+I16 -> 0 | J14: =J15+J16 -> 0
B15: 기관운영비 | C15: 0 | D15: 0
B16: 회의비 | C16: 0 | D16: 0
A17: 운영비 | B17: 계 | C17: =C18+C19+C20+C21+C22+C23 -> 11210 | D17: =SUM(D18:D23) -> 12426 | E17: =D17/C17 -> 1.1084746 | F17: =F18+F19+F20+F21+F22+F23 -> 11000 | G17: =G18+G19+G20+G21+G22+G23 -> 0 | H17: =H18+H19+H20+H21+H22+H23 -> 1426 | I17: =I18+I19+I20+I21+I22+I23 -> 0 | J17: =J18+J19+J20+J21+J22+J23 -> 0
B18: 여비 | C18: 1200 | D18: 1480 | E18: =D18/C18 -> 1.2333333 | F18: =D18 -> 1480 | K18: 종사자 교육비 증액(법인신입직원 교육 및 보육사교육)
B19: 수용비및수수료 | C19: 1366 | D19: 1806 | E19: =D19/C19 -> 1.3221083 | F19: =D19 -> 1806 | K19: 기존1층에서 빌려쓴 사무용품을 15년 구매계획으로 372천원증액(A4용지,필기구,서류화일,사무용품등)
B20: 공공요금 | C20: 7104 | D20: 6900 | E20: =D20/C20 -> 0.97128378 | F20: 6900 | K20: 결산금액에 비해 약6%인상계획하여 265천원증액함(도시가스요금 제외)
B21: 제세공과금 | C21: 980 | D21: 1180 | E21: =D21/C21 -> 1.2040816 | F21: 814 | H21: =D21-F21 -> 366 | K21: 레이차량 3번의사고(1층에서 사용함)로 보험료상승분 354천원 증액
B22: 차량비 | C22: 200 | D22: 580 | H22: 580 | K22: 15년 쉼터외부 활동등 현실적 차량비 산정
B23: 기타운영비 | C23: 360 | D23: 480 | H23: 480 | K23: 직원회식비 증액
A24: 재산조성비 | B24: 계 | C24: =C25+C26 -> 1900 | D24: =D25+D26 -> 8160 | E24: =D24/C24 -> 4.2947368 | F24: =F25+F27 -> 1000 | G24: =G25+G27 -> 0 | H24: =H25+H26 -> 5160 | I24: =I25+I27 -> 2000 | J24: =J25+J27+J28 -> 0
B25: 자산취득비 | C25: 1000 | D25: 5000 | E25: =D25/C25 -> 5 | F25: 1000 | H25: 2000 | I25: 2000 | K25: 1. 공동모금회지정기탁 : 2,000,000원(쉼터아동을 위한 교육용컴퓨터등) 2. 심리치료도구 구입 : 1,000,000원(심리치료사 채용후 구체적 산출내역) 3. 심리치료사 증원으로 인한 집기 등 : 2,000,000원(컴퓨터, 책상,의자,책장등)
B26: 시설장비유지비 | C26: 900 | D26: 3160 | E26: =D26/C26 -> 3.5111111 | H26: 3160 | K26: 1. 화장실 수리등 쉼터시설수리등이 많아져 1,589천원 증액
K27: 2. 심리치료사 신규채용으로 심리치료실리모델링비 1,260원 증액
A29: 사업비 | B29: 소계 | C29: =C30+C36+C41 -> 32222 | D29: =D30+D36+D41 -> 30085 | E29: =D29/C29 -> 0.93367885 | F29: =F30+F36+F41 -> 30000 | G29: =G30+G36+G41 -> 0 | H29: =H30+H36+H41 -> 85 | I29: =I30+I36+I41 -> 0 | J29: =J30+J36+J41 -> 0 | K29: 국비등 보조금 확보로 사업의 전반적 강화
A30: 사업비 | B30: 계 | C30: =SUM(C31:C35) -> 3314 | D30: =SUM(D31:D35) -> 3814 | E30: =D30/C30 -> 1.1508751 | F30: =F31+F32+F33+F34+F35 -> 3814 | G30: =G31+G32+G33+G34+G35 -> 0 | H30: =H31+H32+H33+H34+H35 -> 0 | I30: =I31+I32+I33+I34+I35 -> 0 | J30: =J31+J32+J33+J34+J35 -> 0
B31: 운영관리사업 | C31: 1460 | D31: 1000 | F31: =D31 -> 1000 | K31: 운영위원회회의비( 400천원책정)과 직원교육( 600천원) 강화
B32: 위생비 | C32: 480 | D32: 480 | E32: =D32/C32 -> 1 | F32: 480 | K32: 쉼터 아동들의 이미용강화(파마등 고려함) 361천원 증액
B33: 행사비 | C33: 690 | D33: 1650 | E33: =D33/C33 -> 2.3913043 | F33: 1650 | K33: 15년 문화체험활동 확대(월1회) 1,449천원 증액
B34: 공동체(5대교육등) | C34: 684 | D34: 684 | E34: =D34/C34 -> 1 | F34: 684 | K34: 인권교육 강화위한 재료비구입등 633천원 증액
B35: 현대자동차 | C35: 0 | E35: =D35/C35 -> #DIV/0!
A36: 운영비 | B36: 계 | C36: =C37+C38+C39+C40 -> 15311 | D36: =D37+D38+D39+D40 -> 17811 | E36: =D36/C36 -> 1.1632813 | F36: =F37+F38+F39+F40 -> 17811 | G36: =G37+G38+G39+G40 -> 0 | H36: =H37+H38+H39+H40 -> 0 | I36: =I37+I38+I39+I40 -> 0 | J36: =J37+J38+J39+J40 -> 0
B37: 생계비 | C37: 10200 | D37: 10500 | E37: =D37/C37 -> 1.0294118 | F37: 10500 | K37: 아동센터1인당 약3000원, 급식질강화 쉼터 생계비증액: 1인당약 3240원 = 875000월/30일/9명
B38: 수용기관경비 | C38: 1800 | D38: 2400 | E38: =D38/C38 -> 1.3333333 | F38: 2400 | K38: 쓰레기봉투,음식물쓰레기통 및 라벨스티커,휴지,물티슈,생리대,샴퓨린스류등 필요물품 1,343천원 증액
B39: 피복비 | C39: 1950 | D39: 1550 | E39: =D39/C39 -> 0.79487179 | F39: 1550 | K39: 4계절이불 및 의복구입비 339천원 증액
B40: 의료비 | C40: 1361 | D40: 3361 | E40: =D40/C40 -> 2.4695077 | F40: =D40 -> 3361 | K40: 심리치료실 셋팅 및 도구등 2,612천원 증액
A41: 교육비 | B41: 계 | C41: =C42+C43+C44+C45 -> 13597 | D41: =D42+D43+D44+D45 -> 8460 | E41: =D41/C41 -> 0.62219607 | F41: =F42+F43+F44+F45 -> 8375 | G41: =G42+G43+G44+G45 -> 0 | H41: =H42+H43+H44+H45 -> 85 | I41: =I42+I43+I44+I45 -> 0 | J41: =J42+J43+J44+J45 -> 0
...

Sheet 2015사업계획서
A1: 시설명 : 울산신나는아동쉼터 2015년 사업계획서 | H1: (단위:천원)
A2: 사업 분류 | C2: 세부사업명 | D2: 계 획 | G2: 사 업 개 요 | H2: 기 대 효 과
D3: 목 표 (명, 건) | E3: 예 산
E4: 세 입 | F4: 세 출
A5: 총 계 | D5: =D6+D12+D16+D25+D28+D39 -> 8628 | E5: =E6+E12+E16+E25+E28+E39 -> 30085 | F5: =F6+F12+F16+F25+F28+F33+F39 -> 30085
A6: 아동보호사업 | B6: 보호보육 합계 | D6: =D7+D8+D9+D10+D11 -> 5549 | E6: =E7+E8+E9+E10+E11 -> 14930 | F6: =F7+F8+F9+F10+F11 -> 14930
B7: 보호보육사업 | C7: 일일보호 | D7: 1825 | G7: * 대상 : 아동보호전문기관 및 시군구의 요청에 의한 학대피해아동 및 요보호 아동 * 인원 : 월 평균 입소인원 5명 * 365일 = 1825명 * 시기 : 연 중(입소기간은 3개월로 1회 연장 가능함.) * 내용 : 24시간 보호보육등 | H7: * 학대 피해아동의 심신의 안정 및 신체 기능강화 * 원가정 복귀를 위한 정상적 생활습관 형성 * 새로운 환경에서 변화되는 아동들의 지지 및 격려자로서의 역할
C8: 위생지도 | D8: 1825 | E8: 180 | F8: 180 | G8: * 인원 : 목욕 - 월 평균 입소인원 5명 * 6회 = 30명 샤워 및 세안 - 월 평균 인원 5명 * 365일 = 1825명 * 시기 : 목욕 - 월 1회 샤워 및 세안 - 매일 * 내용 :6,000원(목욕비)*5명*6회=180,000원 | H8: * 위생에 대한 교육 및 습관 형성 * 깨끗한 몸 상태로 가꾸어 건강 유지 및 영양적인 식상활지원
C9: 이미용 | D9: 60 | E9: 300 | F9: 300 | G9: * 인원 : 월 평균 입소인원 5명 * 12개월 * 월 1회 = 60명 * 시기 : 월 1회 * 내용 : 10,000원( 이미용등)*5명*6회=300,000
C10: 의복지원 | D10: 14 | E10: 1550 | F10: 1550 | G10: * 인원 : 월 평균 서비스 지원 인원 7명 * 년 2회 = 14명 * 시기 : 수시 * 내용 : 7명(의복,속옥,신발,침구류등)=1550000원
C11: 생활지원 | D11: 1825 | E11: 12900 | F11: 12900 | G11: * 인원 : 월 평균 서비스 지원 인원 5명 * 365일 =1,825명 * 시기 : 매일 * 내용 - 주부식비(수용기관경비등) : 12,900,000원
B12: 의료사업 소계 | D12: =D13+D14+D15 -> 66 | E12: =E13+E14+E15 -> 1361 | F12: =F13+F14+F15 -> 1361
A13: 아동보호사업 | B13: 의료지원사업 | C13: 건강검진 | D13: 21 | E13: 300 | F13: 300 | G13: * 대상 : 쉼터 입소 아동 중 중, 장기 보호를 받을 아동 * 인원 : 월 별 예상 신규 입소 아동 7명 * 3회 = 21명 * 시기 : 수시(입소 후 1주일 이내로 1회 실시) * 내용 - 7명*3회*20,000원=420,000원 | H13: * 입소당시 아동의 건강 상태 확인 * 단체 생활에서 일어날 수 있는 전염병의 예방
C14: 응급치료 | D14: 9 | E14: 540 | F14: 540 | G14: * 인원 : 3명 *3회 = 9명 * 시기 : 수시 * 내용 : 응급상황 발생시 119 혹은 인근 병원(동강병원) 응급실을 방문하여 응급처치 실시 * 내역:70,000원*3명*3회=630,000원 | H14: * 치료를 통한 정상적 심신의 기능 강화
C15: 병원진료 | D15: 36 | E15: 521 | F15: 521 | G15: * 인원 : 평균지원대상 3명 * 12개월 = 36명 * 시기 : 수시 * 내용 : 소아과, 소아정신과등 보호아동의 건강 이상시 인근 병원을 방문 전문적인 의료서비스 지원 *내역:540,000원(약품구입등)
A16: 교육문화사업 | B16: 교육사업 소계 | D16: =D17+D18+D19+D20+D23+D24 -> 2616 | E16: =E17+E18+E19+E20+E23+E24 -> 9144 | F16: =F17+F18+F19+F20+F23+F24 -> 9144
B17: 교육사업 | C17: 경제교육 | D17: 144 | E17: 1040 | F17: 1040 | G17: * 대상 : 쉼터 입소 아동중 수급비지원 아동 * 인원 : 평균 서비스 지원 대상 3명 * 월 4회 * 6개월 = 72명 * 시기 : 월1회(수급비 지급후 ) * 금액 : 1,040,000원 * 내용 : 용돈기입장을 통한 개별 용돈관리 지도/ 경제 교육 미취학 아동 : 10,000원 초.중학생 : 20,000원 고등학생: 30,000원 | H17: * 적당한 용돈지급 및 사용 지도로 만족감 형성/도벽예방 * 시설에서의 개인생활에 대한 존중
C18: 교육(학습)지원 | D18: 24 | E18: 3000 | F18: 3000 | G18: * 인원 : 평균 서비스 지원 대상 3명 * 2회* 4분기 = 24명 * 시기 : 주 1회 이상 * 금액 : 3,000,000원 * 내용 :방과후, 수련회 ,야외체험행사과 학용품,교통비등 비용지원 | H18: * 부족하기 쉬운 학교 교육의 보충으로 학습 수준 향상 * 다양한 분야의 방과 후 수업을 통해 자신만의 재능 발견 및 스트레스 해소
C19: 특기적성함양(학원등) | D19: 288 | E19: 2500 | F19: =E19 -> 2500 | G19: * 대상 : 입소 아동(미취학,초/중/고등) * 인원 : 평균 서비스 지원 대상 2명 * 월1회*12월=24명 * 시기 : 주 1회 이상 * 금액 : 2,500,000 * 내용 : 학원 및 과외등을 이용한 교과 학습 및 특기적성(예체능, 태권도등 포함) 교육 | H19: * 학교 교육의 보충으로 학습 수준 향상 * 개별 아동의 소질 및 잠재력 계발
A20: 교육문화사업 | B20: 교육사업 | C20: 학습(숙제)및교통비지원 | D20: 1825 | E20: 1920 | F20: =E20 -> 1920 | G20: * 인원 : 월 평균 입소인원 5명 * 365일 = 1825명 * 시기 : 연중 * 금액 :1920천원(학용품960천원,교통960천원) * 내용 : 숙제 및 준비물 일일점검 및 준비지도 | H20: * 시설 내 아동학습에 대한 지속적인 개별지도로 학습수준 향상 * 숙제 및 준비물 점검등 통해 정상적인 학교 생활 습관 형성
C23: 아동안전교육( 5대의무교육) | D23: 95 | E23: 264 | F23: 264 | G23: * 인원 : 월 평균 입소 인원 5명 * 19회 = 95명 * 내역: 264,000원(진행재료구입비) * 시기 : 교통안전 교육 연 6회(2,4,6,8,10,11월) 성폭력 예방교육 연 2회 (7,10월) 약물오남용예방교육 연 4회(3,5,7,11월) 재난대비교육 연 2회(8, 11월) 실종유괴예방방지교육 연 4회(1,5,8,10월) 인권 교육 연 1회 (9월) * 내용 : 각 종 위험 상황에 대한 대처법 및 예방수칙 교육/UN아동권리협약에 대한 기본권 교육 | H23: * 위급상황시 대처방법 습득, 안전규칙의 생활화를 통한 안전한 생활 도모 * 아동권리가 무엇인지 인지하고, 자아존중감 향상
C24: 공동체특별활동 | D24: 240 | E24: 420 | F24: 420 | G24: * 인원 : 평균 서비스 지원 대상 3명 * 2회*4주* 10월 = 240명 * 시기 : 주2회 이상 * 내역 : 210,000원(프로그램진행재료비등)*2회=420,000원 * 내용 : 다도프로그램, 공동체놀이(게임)활동, 심리운동등 | H24: * 공동체특별활동을 통해 스트레스해소 * 특별활동을 통해 정서적 안정 및 유대감 강화
B25: 문화체험 소계 | D25: =D26+D27 -> 78 | E25: =E26+E27 -> 1650 | F25: =F26+F27 -> 1650
A26: 문화지원사업 | B26: 문화지원 | C26: 생일잔치 | D26: 18 | E26: 450 | F26: 450 | G26: * 인원 : 월 평균 입소 인원 3명 * 6회= 18명 * 시기 : 수시 * 내역 : (생일잔치 및선물비) 450천원 * 내용 : 입소아동의 생일 해당월에 생일잔치를 통해 자아존중감 향상 | H26: * 생일잔치를 통한 자아존중함 향상 * 다양한 경험을 통한 잠재력 강화 * 일상생활의 스트레스 해소 및 유대감 강화
C27: 여가(문화)생활지원 | D27: 60 | E27: 1200 | F27: 1200 | G27: * 인원 : 생일 : 월 평균 입소 인원 5명 * 월 1회 * 12개월 = 60명 * 시기 : 수시 * 내역 : 1200000 * 내용 : 외식하기(월1회), 영화등 문화생활( 년2회), 야외산책(월1회), 실내놀이터(월1회),노래방등 | H27: * 여가(문화)생활지원으로로 사회성 증진, 자아존중감 향상
A28: 심리치료 | B28: 심리치료 소계 | D28: =D29+D30+D31+D32 -> 144 | E28: =E29+E30+E31+E32 -> 2000 | F28: =F29+F30+F31+F32 -> 2000
B29: 심리치료 | C29: 심리치료실(검사치료등) | D29: 24 | E29: 2000 | F29: =E29 -> 2000 | G29: * 대상 : 쉼터 입소 아동 중 중, 장기 보호 아동 * 인원 : 월 평균 신규 입소 아동 2명 * 각 1회 * 12개월 = 24명 * 시기 : 입소 후 1개월 이내 * 심리치료진행비 : 20,000천원 * 내용 : 아동보호전문기관과 연계되어 본기관 2층에서 심리검사 실시 | H29: * 심리 검사를 통하여 아동에게 알맞은 보호보육 서비스 및 훈육 방법 제공 * 건강한 심신 발달 도모
C30: 미술치료 | D30: 75 | E30: 0 | F30: 0 | G30: * 대상 : 쉼터 입소 아동 중 심리치료가 필요하다고 판단되는 아동 * 인원 : 연 평균 서비스 이용 인원 5명 * 15회기 = 75명 * 시기 : 수시 * 내용 : 아동보호전문기관과 연계되어 본기관 2층에서 미술치료 실시 | H30: * 학대피해 아동의 심리적 문제행동 감소 및 아동의 건강한 심신발달 도모 * 부적응 행동 감소 및 사회성 향상
C31: 놀이치료 | D31: 45 | E31: 0 | F31: 0 | G31: * 대상 : 쉼터 입소 아동 중 심리치료가 필요하다고 판단되는 아동 * 인원 : 연 평균 서비스 이용 인원 3명 * 15회기 = 45명 * 시기 : 수시 * 내용 : 아동보호전문기관과 연계되어 본기관 2층에서 미술치료 실시
A33: 아동상담사업 | B33: 상담 소계 | D33: =D34+D35+D36 -> 540 | E33: 0 | F33: 0
B34: 아동상담지원사업 | C34: 아동상담 | D34: 240 | E34: 0 | F34: 0 | G34: * 인원 : 월 평균 입소 아동 5명 * 주 1회 * 4주 * 12개월 = 240명 * 시기 : 수시 및 계획상담 * 내용 : 학교 생활, 쉼터 생활 및 훈육을 위한 아동과의 개별상담 | H34: * 개별적 상담을 통해 자아존중감 강화 * 문제발생시 조언과 도움을 얻을 줄 아는 습관의 형성 * 문제행동에 대한 인권존중적 주의지도
C35: 유관기관상담 | D35: 240 | E35: 0 | F35: 0 | G35: * 인원 : 월 평균 입소 아동 5명 * 주 1회 * 4주 * 12개월 = 240명 * 시기 : 수시* 내용 : 입소아동과 관련된 1층아동보호전문기관 상담원, 학교, 학원,유치원등과의 상담실시 | H35: * 아동을 둘러싸고 있는 중요한 지역사회 자원들과의 관계 형성 및 상담을 통해 아동에게 보다 나은 서비스 제공 * 아동 개별 장기적인 목표설정 대한 전문적 조언
C36: 가족상담 | D36: 60 | E36: 0 | F36: 0 | G36: * 인원 : 월 평균 입소 아동 5명 * 월 1회 *10개월 = 50명 * 시기 : 수시* 내용 : 아동의 쉼터 생활, 외출, 외박등과 관련하여 아동의 원가족과 상담 실시
A39: 운영관리사업 | B39: 운영관리사업 소계 | D39: =D40+D41+D42+D43 -> 175 | E39: =E40+E41+E42+E43 -> 1000 | F39: =F40+F41+F42+F43 -> 1000
B40: 운영관리사업 | C40: 자원봉사자관리 | D40: 120 | E40: 0 | F40: 0 | G40: * 대상 : 쉼터 봉사를 원하는 지역주민 * 인원 : 월 평균 봉사 인원 10명 * 12개월 = 120명 * 시기 : 연중 * 내용 : 자원봉사자 관리 및 자원봉사 실적관리 | H40: * 일상생활 및 행사시 부족한 일손 충족 * 아동과 자원봉사자간의 지속적인 관계는 아동의 안정감, 사회성 향상에 도움
C41: 후원자관리 | D41: 36 | E41: 0 | F41: 0 | G41: * 대상 : 쉼터 후원을 원하는 지역주민 * 인원 : 월 평균 후원 인원 3명 * 12개월 = 36명 * 시기 : 연중 * 내용 : 후원자 관리 및 기부금 영수증등 관련서류 관리/후원물품 관리 | H41: * 쉼터 내 필요한 생필품 및 아동 간식, 아동 주식 제공 * 문화체험 및 외식 후원으로 아동들의 스트레스 해소 및 다양한 경험 제공
C42: 직원교육비 | D42: 9 | E42: 600 | F42: =E42 -> 600 | G42: * 대상 : 쉼터 직원3명 * 인원 : 3명* 년3회= 9명 * 시기 : 연중 * 내역 : 600,000원 * 내용 : 피해학대쉼터 법정의무교육(5대교육)이수 및 그룹홈 실무교육,회계교육등 | H42: * 쉼터 직원들의 교육을 통해 소진예방 및 전문성 강과
C43: 운영위원회 | D43: 10 | E43: 400 | F43: 400 | G43: * 대상 : 운영위원 * 인원 : 5명 * 2회이상 = 10명 * 시기 : 년2회이상 * 내용 : 예산계획 및 결산등 보고, 쉼터내 업무진행등 보고 | H43: * 쉼 * 문화체험 및 외식 후원으로 아동들의 스트레스 해소 및 다양한 경험 제공
