Workbook

Sheet 17추경총괄
A1: 울산신나는아동쉼터
A3: ◎ 2017년도 추가경정예산 -세입·세출 총괄표
J4: (단위:천원)
A5: 관/항/목 | B5: 2017년 | D5: 예산대비(b-a) | F5: 관/항/목 | G5: 2017년 | I5: 예산대비(b-a)
B6: 예산(a) | C6: 추경(b) | D6: 금액 | E6: % | G6: 예산(a) | H6: 추경(b) | I6: 금액 | J6: %
A7: 세입계 | B7: ='17추경수입'!E5 -> 158766.08 | C7: ='17추경수입'!F5 -> 163709.06 | D7: =+C7-B7 -> 4942.983 | E7: =+C7/B7 -> 1.0311337 | F7: 세출계 | G7: ='17추경지출'!E5 -> 158766.08 | H7: ='17추경지출'!F5 -> 163709.06 | I7: =+H7-G7 -> 4942.9826 | J7: =+H7/G7 -> 1.0311337
A8: 보조금수입 | B8: ='17추경수입'!E6 -> 137015 | C8: =C9+C10 -> 137015 | D8: =+C8-B8 -> 0 | E8: =+C8/B8 -> 1 | F8: 사무비 | G8: ='17추경지출'!E6 -> 125722.51 | H8: ='17추경지출'!F6 -> 126172.89 | I8: =+H8-G8 -> 450.38058 | J8: =+H8/G8 -> 1.0035823
A9: 경상보조금 | B9: ='17추경수입'!E8 -> 137015 | C9: ='17추경수입'!F8 -> 137015 | D9: =+C9-B9 -> 0 | E9: =+C9/B9 -> 1 | F9: 인건비 | G9: ='17추경지출'!E7 -> 112450.51 | H9: ='17추경지출'!F7 -> 112800.89 | I9: =+H9-G9 -> 350.38058 | J9: =+H9/G9 -> 1.0031159
F10: 업무추진비 | G10: ='17추경지출'!E33 -> 100 | H10: ='17추경지출'!F33 -> 200 | I10: =+H10-G10 -> 100 | J10: =+H10/G10 -> 2
A11: 전입금 | B11: ='17추경수입'!E20 -> 17315.508 | C11: =C12+C13 -> 17563.569 | D11: =+C11-B11 -> 248.061 | E11: =+C11/B11 -> 1.0143259 | F11: 운영비 | G11: ='17추경지출'!E36 -> 13172 | H11: ='17추경지출'!F36 -> 13172 | I11: =+H11-G11 -> 0 | J11: =+H11/G11 -> 1
A12: 운영전입금 | B12: ='17추경수입'!E22 -> 17315.508 | C12: ='17추경수입'!F22 -> 17563.569 | D12: =+C12-B12 -> 248.061 | E12: =+C12/B12 -> 1.0143259 | F12: 재산조성비 | G12: =SUM(G13:G14) -> 1458 | H12: ='17추경지출'!F63 -> 1458 | I12: =+H12-G12 -> 0 | J12: =+H12/G12 -> 1
A13: 사업전입금 | B13: ='17추경수입'!E31 -> 0 | C13: ='17추경수입'!F31 -> 0 | D13: =+C13-B13 -> 0 | F13: 자산취득비 | G13: ='17추경지출'!E65 -> 1000 | H13: ='17추경지출'!F65 -> 1000 | I13: =+H13-G13 -> 0 | J13: =+H13/G13 -> 1
F14: 시설장비유지비 | G14: ='17추경지출'!E67 -> 458 | H14: ='17추경지출'!F67 -> 458 | I14: =+H14-G14 -> 0 | J14: =+H14/G14 -> 1
A15: 후원금수입 | B15: ='17추경수입'!E15 -> 1900 | C15: =C16+C17 -> 3700 | D15: =+C15-B15 -> 1800 | E15: =+C15/B15 -> 1.9473684
A16: 지정후원금 | B16: ='17추경수입'!E18 -> 900 | C16: ='17추경수입'!F18 -> 1200 | D16: =+C16-B16 -> 300 | E16: =+C16/B16 -> 1.3333333 | F16: 사업비 | G16: =SUM(G17:G19) -> 31500 | H16: ='17추경지출'!F69 -> 35500 | I16: =+H16-G16 -> 4000 | J16: =+H16/G16 -> 1.1269841
A17: 비지정후원금 | B17: ='17추경수입'!E19 -> 1000 | C17: ='17추경수입'!F19 -> 2500 | D17: =+C17-B17 -> 1500 | E17: =+C17/B17 -> 2.5 | F17: 사업비 | G17: ='17추경지출'!E70 -> 5120 | H17: ='17추경지출'!F70 -> 7620 | I17: =+H17-G17 -> 2500 | J17: =+H17/G17 -> 1.4882812
A18: 이월금 | B18: ='17추경수입'!E32 -> 2507.569 | C18: =C19+C20 -> 5354.491 | D18: =+C18-B18 -> 2846.922 | E18: =+C18/B18 -> 2.1353315 | F18: 운영비 | G18: ='17추경지출'!E82 -> 20955 | H18: ='17추경지출'!F82 -> 22455 | I18: =+H18-G18 -> 1500 | J18: =+H18/G18 -> 1.071582
A19: 전년도사업이월금 | B19: ='17추경수입'!E34 -> 140.118 | C19: ='17추경수입'!F34 -> 649.286 | D19: =+C19-B19 -> 509.168 | E19: =+C19/B19 -> 4.6338515 | F19: 교육비 | G19: ='17추경지출'!E96 -> 5425 | H19: ='17추경지출'!F96 -> 5425 | I19: =+H19-G19 -> 0 | J19: =+H19/G19 -> 1
A20: 전년도후원이월금 | B20: ='17추경수입'!E37 -> 2367.451 | C20: ='17추경수입'!F37 -> 4705.205 | D20: =+C20-B20 -> 2337.754 | E20: =+C20/B20 -> 1.9874561 | F20: 보조금반환 | G20: ='17추경지출'!E108 -> 0 | H20: ='17추경지출'!F108 -> 0 | I20: =+H20-G20 -> 0
A21: 잡수입 | B21: =B22+B23 -> 28 | C21: =C22+C23 -> 76 | D21: =+C21-B21 -> 48 | E21: =+C21/B21 -> 2.7142857 | F21: 잡지출 | I21: =+H21-G21 -> 0
A22: 기타잡수입 | C22: ='17추경수입'!F40 -> 48 | F22: 예비비 | I22: =+H22-G22 -> 0
A23: 기타예금이자 | B23: ='17추경수입'!E41 -> 28 | C23: ='17추경수입'!F41 -> 28 | D23: =+C23-B23 -> 0 | E23: =+C23/B23 -> 1 | F23: 차기사업이월금 | G23: ='17추경지출'!E111 -> 85.569 | H23: ='17추경지출'!F111 -> 578.171 | I23: =+H23-G23 -> 492.602 | J23: =+H23/G23 -> 6.7567811

Sheet 17추경수입
A1: ◎ 2017년 추가경정예산 세입명세서
U2: (단위: 천원,원)
A3: 관 | B3: 항 | C3: 목 | D3: 세목 | E3: 2017년 | G3: 예산대비(b-a) | I3: 예산 산출내역(참고용) 출력시 셀감춤 | L3: 산출내역
E4: 예산(a) | F4: 추경(b) | G4: 금액 | H4: %
A5: 합 계 | E5: =K5/1000 -> 158766.08 | F5: =F6+F15+F20+F32+F38 -> 163709.06 | G5: =+F5-E5 -> 4942.983 | H5: =+F5/E5 -> 1.0311337 | K5: =K6+K15+K20+K32+K38 -> 158766077 | S5: 총계 | T5: = | U5: =U6+U15+U20+U32+U38 -> 163709060
A6: 보조금수입 | E6: =K6/1000 -> 137015 | F6: =+F7 -> 137015 | G6: =+F6-E6 -> 0 | H6: =+F6/E6 -> 1 | K6: 137015000 | S6: 소계 | T6: = | U6: =U8+U13 -> 137015000
B7: 보조금수입 | E7: =K7/1000 -> 137015 | F7: =U7/1000 -> 137015 | G7: =+F7-E7 -> 0 | H7: =+F7/E7 -> 1 | K7: 137015000 | U7: 137015000
C8: 경상보조금 | E8: =K8/1000 -> 137015 | F8: =U8/1000 -> 137015 | G8: =+F8-E8 -> 0 | H8: =+F8/E8 -> 1 | K8: 137015000 | S8: 소계 | T8: = | U8: =U9+U10+U11+U12 -> 137015000
I9: 1. 인건비 | J9: = | K9: 90215000 | L9: 1. 인건비 | T9: = | U9: 90215000
I10: 2. 가계보조수당(시보조금) | J10: = | K10: 4800000 | L10: 2. 가계보조수당(시보조금) | T10: = | U10: 4800000
G11: =E11-F11 -> 0 | I11: 2. 운영비 | J11: = | K11: 12000000 | L11: 2. 운영비 | T11: = | U11: 12000000
G12: =E12-F12 -> 0 | I12: 3. 사업비 | J12: = | K12: 30000000 | L12: 3. 사업비 | T12: = | U12: 30000000
C13: 기타보조금 | E13: =U13/1000 -> 0 | F13: =U13/1000 -> 0 | G13: =+F13-E13 -> 0 | H13: =+E13/F13 -> #DIV/0! | S13: 소계 | T13: =
G14: =+F14-E14 -> 0
A15: 후원금수입 | E15: =K15/1000 -> 1900 | F15: =U15/1000 -> 3700 | G15: =+F15-E15 -> 1800 | H15: =+F15/E15 -> 1.9473684 | K15: 1900000 | S15: 소계 | T15: = | U15: =U17 -> 3700000
B16: 후원금수입 | G16: =+F16-E16 -> 0
C17: 후원금 | E17: =K17/1000 -> 1900 | F17: =U17/1000 -> 3700 | G17: =+F17-E17 -> 1800 | H17: =+F17/E17 -> 1.9473684 | K17: 1900000 | S17: 소계 | T17: = | U17: =U18+U19 -> 3700000
D18: 지정후원금 | E18: =K18/1000 -> 900 | F18: =U18/1000 -> 1200 | G18: =+F18-E18 -> 300 | H18: =+F18/E18 -> 1.3333333 | I18: 지정후원금 | J18: = | K18: 900000 | L18: 지정후원금 | M18: 300000 | N18: × | O18: 4 | P18: 회 | T18: = | U18: =M18*O18 -> 1200000
D19: 비지정후원금 | E19: =K19/1000 -> 1000 | F19: =U19/1000 -> 2500 | G19: =+F19-E19 -> 1500 | H19: =+F19/E19 -> 2.5 | I19: 비지정후원금 | J19: = | K19: 1000000 | L19: 비지정후원금 | M19: 250000 | N19: × | O19: 10 | P19: 회 | T19: = | U19: =M19*O19 -> 2500000
A20: 전입금 | E20: =K20/1000 -> 17315.508 | F20: =U20/1000 -> 17563.569 | G20: =+F20-E20 -> 248.061 | H20: =+F20/E20 -> 1.0143259 | K20: 17315508 | S20: 소계 | T20: = | U20: =U22 -> 17563569
B21: 전입금 | E21: =K21/1000 -> 0 | F21: =U21/1000 -> 0 | G21: =+F21-E21 -> 0 | H21: =+F21/E21 -> #DIV/0!
C22: 운영전입금 | E22: =K22/1000 -> 17315.508 | F22: =U22/1000 -> 17563.569 | G22: =+F22-E22 -> 248.061 | H22: =+F22/E22 -> 1.0143259 | I22: *일반운영비 | K22: 17315508 | L22: *일반운영비 | S22: 소계 | T22: = | U22: =SUM(U23:U30) -> 17563569
I23: 1. 퇴직적립금 | J23: = | K23: 5377167 | L23: 1. 퇴직적립금 | M23: 712364 | N23: × | O23: 8 | P23: 회 | T23: = | U23: 5698916
G24: =E24-F24 -> 0 | H24: =+E24/F24 -> #DIV/0! | I24: 2. 사회보험부담금 | J24: = | K24: 9058341 | L24: 2. 사회보험부담금 | M24: 711221 | N24: × | O24: 12 | P24: 회 | T24: = | U24: 8534653
G25: =E25-F25 -> 0 | H25: =+E25/F25 -> #DIV/0! | I25: 3. 명절수당 | J25: = | K25: 800000 | L25: 3. 명절수당 | M25: 100000 | N25: × | O25: 4 | P25: 명 | R25: × | S25: 2회 | T25: = | U25: =M25*O25*2 -> 800000
G26: =E26-F26 -> 0 | H26: =+E26/F26 -> #DIV/0! | I26: 4. 직책수당 | J26: = | K26: 500000 | L26: 4. 직책수당 | M26: 50000 | N26: × | O26: 11 | P26: 회 | T26: = | U26: =M26*O26 -> 550000
I27: 5. 심리치료지원비 | J27: = | K27: 600000 | L27: 5. 심리치료지원비 | M27: 1000000 | N27: × | O27: 1 | P27: 명 | T27: = | U27: =M27*O27 -> 1000000
I28: 5. 직원문화활동지원 | J28: = | K28: 200000 | L28: 5. 직원문화활동지원 | M28: 50000 | N28: × | O28: 4 | P28: 명 | T28: = | U28: =M28*O28 -> 200000
I29: 6. 경조사비 | J29: = | K29: 300000 | L29: 6. 경조사비 | M29: 300000 | N29: × | O29: 1 | P29: 명 | T29: = | U29: =M29*O29 -> 300000
G30: =E30-F30 -> 0 | H30: =+E30/F30 -> #DIV/0! | I30: 7. 회식비 | J30: = | K30: 480000 | L30: 7. 회식비 | M30: 40000 | N30: × | O30: 12 | P30: 회 | T30: = | U30: =M30*O30 -> 480000
C31: 사업전입금
A32: 이월금 | E32: =K32/1000 -> 2507.569 | F32: =U32/1000 -> 5354.491 | G32: =+F32-E32 -> 2846.922 | H32: =+F32/E32 -> 2.1353315 | K32: 2507569 | S32: 소계 | T32: = | U32: =U33 -> 5354491
B33: 이월금 | E33: =K33/1000 -> 2507.569 | F33: =U33/1000 -> 5354.491 | G33: =+F33-E33 -> 2846.922 | H33: =+F33/E33 -> 2.1353315 | K33: 2507569 | S33: 소계 | T33: = | U33: =U34+U37 -> 5354491
C34: 전년도사업이월금 | E34: =K34/1000 -> 140.118 | F34: =U34/1000 -> 649.286 | G34: =+F34-E34 -> 509.168 | H34: =+F34/E34 -> 4.6338515 | I34: 전년도 사업이월금 | K34: 140118 | L34: 전년도 사업이월금 | U34: =U35+U36 -> 649286
I35: - 전입금 | J35: = | K35: 112076 | L35: - 전입금 | T35: = | U35: 643981
I36: - 기타 | J36: = | K36: 28042 | L36: - 기타 | T36: = | U36: 5305
C37: 전년도후원금이월금 | E37: =K37/1000 -> 2367.451 | F37: =U37/1000 -> 4705.205 | G37: =+F37-E37 -> 2337.754 | H37: =+F37/E37 -> 1.9874561 | I37: 전년도 후원이월금 | K37: 2367451 | L37: 전년도 후원이월금 | U37: 4705205
A38: 잡수입 | E38: =K38/1000 -> 28 | F38: =U38/1000 -> 76 | G38: =+F38-E38 -> 48 | H38: =+F38/E38 -> 2.7142857 | K38: 28000 | S38: 소계 | T38: = | U38: =U39 -> 76000
B39: 잡수입 | E39: =K39/1000 -> 28 | F39: =U39/1000 -> 76 | G39: =+F39-E39 -> 48 | H39: =+F39/E39 -> 2.7142857 | K39: 28000 | S39: 소계 | T39: = | U39: =U40+U41 -> 76000
C40: 기타잡수입 | E40: =K40/1000 -> 0 | F40: =U40/1000 -> 48 | G40: =+F40-E40 -> 48 | H40: =+F40/E40 -> #DIV/0! | I40: 포인트잡수입등 | L40: 포인트잡수입등 | M40: 48000 | N40: × | O40: 1 | P40: 년 | T40: = | U40: =M40*O40 -> 48000
C41: 기타예금이자수입 | E41: =K41/1000 -> 28 | F41: =U41/1000 -> 28 | G41: =+F41-E41 -> 0 | H41: =+F41/E41 -> 1 | I41: 예금이자수입 | K41: 28000 | L41: 예금이자수입 | M41: 28000 | N41: × | O41: 1 | P41: 년 | T41: = | U41: =M41*O41 -> 28000

Sheet 17추경지출
A1: ◎ 2017년 추가경졍예산 세출명세서
G2: (단위 : 천원) | U2: (단위: 천원,원)
A3: 관 | B3: 항 | C3: 목 | D3: 세목 | E3: 2017년 | G3: 예산대비(b-a) | I3: 예산 산출내역(참고용) 출력시 셀감춤 | L3: 추경 산출내역
E4: 예산(a) | F4: 최종추경(b) | G4: 금액 | H4: %
E5: =K5/1000 -> 158766.08 | F5: =U5/1000 -> 163709.06 | G5: =F5-E5 -> 4942.9826 | H5: =+F5/E5 -> 1.0311337 | K5: 158766077 | S5: 총계= | U5: =U6+U63+U69+U105+U109 -> 1.6370906e+08
A6: 사무비 | E6: =K6/1000 -> 125722.51 | F6: =U6/1000 -> 126172.89 | G6: =F6-E6 -> 450.38058 | H6: =+F6/E6 -> 1.0035823 | K6: 125722508 | S6: 소계= | U6: =U7+U36+U34 -> 1.2617289e+08
B7: 인건비 | E7: =K7/1000 -> 112450.51 | F7: =U7/1000 -> 112800.89 | G7: =F7-E7 -> 350.38058 | H7: =+F7/E7 -> 1.0031159 | K7: 112450508 | S7: 소계 | T7: = | U7: =U8+U17+U21+U23+U29+U31 -> 1.1280089e+08
C8: 급여 | E8: =K8/1000 -> 87762 | F8: =U8/1000 -> 88059 | G8: =F8-E8 -> 297 | H8: =+F8/E8 -> 1.0033842 | K8: 87762000 | S8: 소계 | T8: = | U8: =U9+U12+U15 -> 88059000
I9: 1.시설장 급여(보조금) | J9: = | K9: 24834000 | L9: 1.시설장 급여(보조금) | U9: =U10+U11 -> 24834000
I10: - 5호봉(6개월) | J10: = | K10: 12228000 | L10: - 5호봉(6개월) | M10: 2038000 | N10: × | O10: 1 | P10: 명 | Q10: × | R10: 6 | S10: 월 | T10: = | U10: =M10*O10*R10 -> 12228000
I11: - 6호봉(6개월) | J11: = | K11: 12606000 | L11: - 6호봉(6개월) | M11: 2101000 | N11: × | O11: 1 | P11: 명 | Q11: × | R11: 6 | S11: 월 | T11: = | U11: =M11*O11*R11 -> 12606000
I12: 2.보육사 급여(보조금) | J12: = | K12: 41556000 | L12: 2.보육사 급여(보조금) | U12: =U13+U14 -> 41853000
I13: - 2호봉(12개월) | J13: = | K13: 21372000 | L13: - 2호봉(15개월) | M13: 1781000 | N13: × | O13: 1 | P13: 명 | Q13: × | R13: 15 | S13: 월 | T13: = | U13: =M13*O13*R13 -> 26715000
I14: - 1호봉(12개월) | J14: = | K14: 20184000 | L14: - 1호봉(9개월) | M14: 1682000 | N14: × | O14: 1 | P14: 명 | Q14: × | R14: 9 | S14: 월 | T14: = | U14: =M14*O14*R14 -> 15138000
I15: 3.심리치료사 급여(보조금) | J15: = | K15: 21372000 | L15: 3.심리치료사 급여(보조금) | U15: =U16 -> 21372000
I16: - 2호봉(12개월) | J16: = | K16: 21372000 | L16: - 2호봉(12개월) | M16: 1781000 | N16: × | O16: 1 | P16: 명 | Q16: × | R16: 12 | S16: 월 | T16: = | U16: =M16*O16*R16 -> 21372000
C17: 제수당 | E17: =K17/1000 -> 6200 | F17: =U17/1000 -> 6200 | G17: =F17-E17 -> 0 | H17: =+F17/E17 -> 1 | K17: 6200000 | S17: 소계 | T17: = | U17: =U18+U19+U20 -> 6200000
I18: 3. 가계보조수당(보조금) | J18: = | K18: 4800000 | L18: 3. 가계보조수당(보조금) | M18: 100000 | N18: × | O18: 4 | P18: 명 | Q18: × | R18: 12 | S18: 회 | T18: = | U18: =M18*O18*R18 -> 4800000
I19: 4.시설장직책수당 (전입금 500,000) (이월전입금 100,000) | J19: = | K19: 600000 | L19: 4.시설장직책수당 (전입금 550,000) (이월전입금 50,000) | M19: 50000 | N19: × | O19: 1 | P19: 명 | Q19: × | R19: 12 | S19: 월 | T19: = | U19: =M19*O19*R19 -> 600000
I20: 5.명절수당등(전입금) | J20: = | K20: 800000 | L20: 5.명절수당등(전입금) | M20: 100000 | N20: × | O20: 4 | P20: 명 | Q20: × | R20: 2 | S20: 회 | T20: = | U20: =M20*O20*R20 -> 800000
C21: 퇴직금및적립금 | E21: =K21/1000 -> 7830.167 | F21: =U21/1000 -> 7854.9157 | G21: =F21-E21 -> 24.748667 | H21: =+F21/E21 -> 1.0031607 | K21: 7830167 | S21: 소계 | T21: = | U21: =U22 -> 7854915.7
I22: 1.퇴직적립금 (보조금 2,453,000) (전입금 5,377,167) | J22: = | K22: 7830167 | L22: 1.퇴직적립금 (보조금 2,156,000) (전입금 5,698,916) | M22: =U8+U17 -> 94259000 | N22: / | O22: 12 | P22: 월 | T22: = | U22: =M22/O22-1 -> 7854915.7
C23: 사회보험부담금 | E23: =K23/1000 -> 9058.341 | F23: =U23/1000 -> 9086.9729 | G23: =F23-E23 -> 28.631914 | H23: =+F23/E23 -> 1.0031608 | K23: 9058341 | S23: 소계 | U23: =U24+U25+U26+U27+U28 -> 9086972.9
I24: 1.국민연금(전입금) | J24: = | K24: 4228290 | L24: 1.국민연금(전입금)(이월금 321,390) | M24: =M22 -> 94259000 | N24: × | O24: 0.045 | T24: = | U24: =M24*O24 -> 4241655
I25: 2.건강보험(전입금) | J25: = | K25: 2875237 | L25: 2.건강보험(전입금)(이월금 230,930) | M25: =M22 -> 94259000 | N25: × | O25: 0.0306 | T25: = | U25: =M25*O25 -> 2884325.4
I26: 3.장기요양보험(전입금) | J26: = | K26: 188328 | L26: 3.장기요양보험(전입금) | M26: =U25 -> 2884325.4 | N26: × | O26: 0.0655 | T26: = | U26: =M26*O26 -> 188923.31
I27: 4.고용보험(전입금) | J27: = | K27: 1033582 | L27: 4.고용보험(전입금) | M27: =M22 -> 94259000 | N27: × | O27: 0.011 | T27: = | U27: =M27*O27 -> 1036849
I28: 5.산재보험(전입금) | J28: = | K28: 732904 | L28: 5.산재보험(전입금) | M28: =M22 -> 94259000 | N28: × | O28: 0.0078 | T28: = | U28: =M28*O28 -> 735220.2
C29: 일용잡금 | E29: =K29/1000 -> 1400 | F29: =U29/1000 -> 1400 | G29: =F29-E29 -> 0 | H29: =+F29/E29 -> 1 | K29: 1400000 | S29: 소계 | T29: = | U29: =U30 -> 1400000
I30: 1.대체인력일비지급(후원이월금) | J30: = | K30: 1400000 | L30: 1.대체인력일비지급(후원이월금) | M30: 100000 | N30: × | O30: 2 | P30: 명 | Q30: × | R30: 7 | S30: 일 | T30: = | U30: =M30*O30*R30 -> 1400000
C31: 기타후생경비 | E31: =K31/1000 -> 200 | F31: =U31/1000 -> 200 | G31: =F31-E31 -> 0 | H31: =+F31/E31 -> 1 | K31: 200000 | S31: 소계 | T31: = | U31: =U32 -> 200000
I32: 1.직원문화활동지원(전입금) | J32: = | K32: 200000 | L32: 1.직원문화활동지원(전입금) | M32: 50000 | N32: × | O32: 4 | P32: 명 | T32: = | U32: =M32*O32 -> 200000
B33: 업무추진비 | E33: =K33/1000 -> 100 | F33: =U33/1000 -> 200 | G33: =F33-E33 -> 100 | H33: =+F33/E33 -> 2 | K33: 100000 | S33: 소계 | T33: = | U33: =U34 -> 200000
C34: 기관운영비 | E34: =K34/1000 -> 100 | F34: =U34/1000 -> 200 | G34: =F34-E34 -> 100 | H34: =+F34/E34 -> 2 | I34: 1. 기관운영비(후원금) | J34: = | K34: 100000 | L34: 1. 기관운영비(후원이월금) | M34: 50000 | N34: × | O34: 4 | P34: 회 | T34: = | U34: =M34*O34 -> 200000
C35: 회의비
B36: 운영비 | E36: =K36/1000 -> 13172 | F36: =U36/1000 -> 13172 | G36: =E36-F36 -> 0 | H36: =+F36/E36 -> 1 | K36: 13172000 | S36: 소계 | T36: = | U36: =U37+U40+U42+U49+U55+U60 -> 13172000
C37: 기타운영비 | E37: =K37/1000 -> 780 | F37: =U37/1000 -> 780 | G37: =F37-E37 -> 0 | H37: =+F37/E37 -> 1 | K37: 780000 | S37: 소계 | T37: = | U37: =U38+U39 -> 780000
I38: 1.회식비(전입금) | J38: = | K38: 480000 | L38: 1.회식비(전입금) | M38: 40000 | N38: × | O38: 12 | P38: 회 | T38: = | U38: =M38*O38 -> 480000
I39: 2.직원경조사비(전입금) | J39: = | K39: 300000 | L39: 2.직원경조사비(전입금) | M39: 300000 | N39: × | O39: 1 | P39: 회 | T39: = | U39: =M39*O39 -> 300000
C40: 여비 | E40: =K40/1000 -> 1620 | F40: =U40/1000 -> 1620 | G40: =F40-E40 -> 0 | H40: =+F40/E40 -> 1 | K40: 1620000 | S40: 소계 | T40: = | U40: =U41 -> 1620000
I41: 1.외근,출장교통비(보조금) | J41: = | K41: 1620000 | L41: 1.외근,출장교통비(보조금) | M41: 135000 | N41: × | O41: 12 | P41: 월 | T41: = | U41: =M41*O41 -> 1620000
C42: 수용비및수수료 | E42: =K42/1000 -> 1366 | F42: =U42/1000 -> 1366 | G42: =F42-E42 -> 0 | H42: =+F42/E42 -> 1 | K42: 1366000 | S42: 소계 | T42: = | U42: =U43+U44+U45+U46+U47+U48 -> 1366000
I43: 1.퇴직연금관리수수료(보조금) | J43: = | K43: 36000 | L43: 1.퇴직연금관리수수료(보조금) | M43: 3000 | N43: × | O43: 12 | P43: 월 | T43: = | U43: =M43*O43 -> 36000
I44: 2.공인인증갱신수수료(보조금) | J44: = | K44: 5000 | L44: 2.공인인증갱신수수료(보조금) | M44: 5000 | N44: × | O44: 1 | P44: 회 | T44: = | U44: =M44*O44 -> 5000
I45: 4.프린트대여비(보조금) | J45: = | K45: 600000 | L45: 4.프린트대여비(보조금) | M45: 50000 | N45: × | O45: 12 | P45: 월 | T45: = | U45: =M45*O45 -> 600000
I46: 5.신용카드연회비(보조금) | J46: = | K46: 5000 | L46: 5.신용카드연회비(보조금) | M46: 5000 | N46: × | O46: 1 | P46: 회 | T46: = | U46: =M46*O46 -> 5000
I47: 6.정수기렌탈료(보조금) | J47: = | K47: 120000 | L47: 6.정수기렌탈료(보조금) | M47: 10000 | N47: × | O47: 12 | P47: 월 | T47: = | U47: =M47*O47 -> 120000
I48: 7.사무용품,소모품구입비(보조금) | J48: = | K48: 600000 | L48: 7.사무용품,소모품구입비(보조금) | M48: 50000 | N48: × | O48: 12 | P48: 월 | T48: = | U48: =M48*O48 -> 600000
C49: 공공요금 | E49: =K49/1000 -> 5742 | F49: =U49/1000 -> 5482 | G49: =F49-E49 -> -260 | H49: =+F49/E49 -> 0.95471961 | K49: 5742000 | S49: 소계 | T49: = | U49: =U50+U51+U52+U53+U54 -> 5482000
I50: 1.도시가스요금(보조금) | J50: = | K50: 2520000 | L50: 1.도시가스요금(보조금) | M50: 210000 | N50: × | O50: 12 | P50: 월 | T50: = | U50: =M50*O50 -> 2520000
I51: 2.전기요금(보조금) | J51: = | K51: 1440000 | L51: 2.전기요금(보조금) | M51: 120000 | N51: × | O51: 12 | P51: 월 | T51: = | U51: =M51*O51 -> 1440000
I52: 3.상하수도요금(보조금) | J52: = | K52: 1200000 | L52: 3.상하수도요금(보조금) | M52: 85000 | N52: × | O52: 12 | P52: 월 | T52: = | U52: =M52*O52 -> 1020000
I53: 4.전화요금(보조금) | J53: = | K53: 450000 | L53: 4.전화요금(보조금) | M53: 31900 | N53: × | O53: 12 | P53: 월 | T53: = | U53: 382000
I54: 5.유선방송요금(보조금) | J54: = | K54: 132000 | L54: 5.유선방송요금(보조금) | M54: 10000 | N54: × | O54: 12 | P54: 월 | T54: = | U54: =M54*O54 -> 120000
C55: 제세공과금 | E55: =K55/1000 -> 1814 | F55: =U55/1000 -> 2074 | G55: =F55-E55 -> 260 | H55: =+F55/E55 -> 1.1433297 | K55: 1814000 | S55: 소계 | T55: = | U55: =U56+U57+U58+U59 -> 2074000
I56: 1.레이9050보험료(보조금) | J56: = | K56: 1600000 | L56: 1.레이9050보험료(보조금) | M56: 1600000 | N56: × | O56: 1 | P56: 대 | T56: = | U56: =M56*O56 -> 1600000
I57: 2.자동차세(보조금) | J57: = | K57: 90000 | L57: 2.자동차세(보조금) | M57: 90000 | N57: × | O57: 1 | P57: 회 | T57: = | U57: =M57*O57 -> 90000
I58: 3.신원보증보험료(보조금) | J58: = | K58: 24000 | L58: 3.신원보증보험료(보조금) | M58: 24000 | N58: × | O58: 1 | P58: 명 | T58: = | U58: =M58*O58 -> 24000
I59: 4.상해및실손보험료(보조금) | J59: = | K59: 100000 | L59: 4.상해및실손&여행배상책임공제(보조금) | M59: 360000 | N59: × | O59: 1 | P59: 회 | T59: = | U59: =M59*O59 -> 360000
C60: 차량유지비 | E60: =K60/1000 -> 1850 | F60: =U60/1000 -> 1850 | G60: =F60-E60 -> 0 | H60: =+F60/E60 -> 1 | K60: 1850000 | S60: 소계 | T60: = | U60: =U61+U62 -> 1850000
I61: 1.차량정비비(후원이월금) | J61: = | K61: 850000 | L61: 1.차량정비비(후원이월금) | M61: 850000 | N61: × | O61: 1 | P61: 회 | T61: = | U61: =+M61*O61 -> 850000
I62: 1.차량유류비(후원금) | J62: = | K62: 1000000 | L62: 1.차량유류비(후원금) | M62: 40000 | N62: × | O62: 25 | P62: 회 | T62: = | U62: =+M62*O62 -> 1000000
A63: 재산조성비 | E63: =K63/1000 -> 1458 | F63: =U63/1000 -> 1458 | G63: =F63-E63 -> 0 | H63: =+F63/E63 -> 1 | K63: 1458000 | S63: 소계 | T63: = | U63: =U65+U67 -> 1458000
B64: 시설비 | E64: =K64/1000 -> 1458 | F64: =U64/1000 -> 1458 | G64: =F64-E64 -> 0 | H64: =+F64/E64 -> 1 | K64: 1458000 | S64: 소계 | T64: = | U64: =U65+U67 -> 1458000
C65: 자산취득비 | E65: =K65/1000 -> 1000 | F65: =U65/1000 -> 1000 | G65: =F65-E65 -> 0 | H65: =+F65/E65 -> 1 | K65: 1000000 | S65: 소계 | T65: = | U65: =U66 -> 1000000
I66: 1.비품구입(보조금) | J66: = | K66: 1000000 | L66: 1.비품구입(보조금) | M66: 250000 | N66: × | O66: 4 | P66: 회 | T66: = | U66: =M66*O66 -> 1000000
C67: 시설장비유지비 | E67: =K67/1000 -> 458 | F67: =U67/1000 -> 458 | G67: =F67-E67 -> 0 | H67: =+F67/E67 -> 1 | K67: 458000 | S67: 소계= | U67: =U68 -> 458000
I68: 1.시설물수리(보조금) | J68: = | K68: 458000 | L68: 1.시설물수리(보조금) | M68: 458000 | N68: × | O68: 1 | P68: 회 | T68: = | U68: =M68*O68 -> 458000
A69: 사업비 | E69: =K69/1000 -> 31500 | F69: =U69/1000 -> 35500 | G69: =F69-E69 -> 4000 | H69: =+F69/E69 -> 1.1269841 | K69: 31500000 | S69: 소계= | U69: =U70+U82+U96 -> 35500000
B70: 사업비 | E70: =K70/1000 -> 5120 | F70: =U70/1000 -> 7620 | G70: =F70-E70 -> 2500 | H70: =+F70/E70 -> 1.4882812 | K70: 5120000 | S70: 소계 = | U70: =U71+U73+U75+U79 -> 7620000
C71: 5대의무교육 | E71: =K71/1000 -> 250 | F71: =U71/1000 -> 250 | G71: =F71-E71 -> 0 | H71: =+F71/E71 -> 1 | K71: 250000 | S71: 소계 | T71: = | U71: =U72 -> 250000
I72: 1.안전교육진행및재료구입(보조금) | J72: = | K72: 250000 | L72: 1.안전교육진행및재료구입(보조금) | M72: 250000 | N72: × | O72: 1 | P72: 회 | T72: = | U72: =M72*O72 -> 250000
C73: 공동체특별활동 | E73: =K73/1000 -> 420 | F73: =U73/1000 -> 420 | G73: =F73-E73 -> 0 | H73: =+F73/E73 -> 1 | K73: 420000 | S73: 소계 | T73: = | U73: =U74 -> 420000
I74: 1.공동체프로그램진행비(보조금) | J74: = | K74: 420000 | L74: 1.공동체프로그램진행비(보조금) | M74: 35000 | N74: × | O74: 12 | P74: 회 | T74: = | U74: =M74*O74 -> 420000
C75: 행사비 | E75: =K75/1000 -> 2850 | F75: =U75/1000 -> 4950 | G75: =F75-E75 -> 2100 | H75: =+F75/E75 -> 1.7368421 | K75: 2850000 | S75: 소계 | T75: = | U75: =U76+U77+U78 -> 4950000
I76: 1.행사비(생일잔치)(보조금) | J76: = | K76: 450000 | L76: 1.행사비(생일,명절) (보조금 450,000) (지정후원금 300,000) | M76: 50000 | N76: × | O76: 3 | P76: 명 | Q76: × | R76: 5 | S76: 회 | T76: = | U76: =M76*O76*R76 -> 750000
I77: 2.문화생활체험비(외부체험비)(보조금) | J77: = | K77: 2400000 | L77: 2.문화생활체험비 (보조금1,200,000) (후원금1,200,000) | M77: 100000 | N77: × | O77: 2 | P77: 명 | Q77: × | R77: 12 | S77: 회 | T77: = | U77: =M77*O77*R77 -> 2400000
L78: 3.쉼터아동선진지견학(후원이월금) | M78: 200000 | N78: × | O78: 9 | P78: 명 | T78: = | U78: =M78*O78 -> 1800000
C79: 운영관리사업 | E79: =K79/1000 -> 1600 | F79: =U79/1000 -> 2000 | G79: =F79-E79 -> 400 | H79: =+F79/E79 -> 1.25 | K79: 1600000 | S79: 소계 | T79: = | U79: =U80+U81 -> 2000000
I80: 1.운영위원회 진행비(보조금) | J80: = | K80: 400000 | L80: 1.운영위원회 진행비(보조금) | M80: 100000 | N80: × | O80: 4 | P80: 회 | T80: = | U80: =M80*O80 -> 400000
I81: 2.직원교육비 (보조금 600,000) (전입금 600,000) | J81: = | K81: 1200000 | L81: 2.직원교육비 (보조금 600,000) (전입금 1,000,000) | M81: 100000 | N81: × | O81: 4 | P81: 명 | Q81: × | R81: 4 | S81: 회 | T81: = | U81: =M81*O81*R81 -> 1600000
B82: 운영비 | E82: =K82/1000 -> 20955 | F82: =U82/1000 -> 22455 | G82: =F82-E82 -> 1500 | H82: =+F82/E82 -> 1.071582 | K82: 20955000 | S82: 소계 | T82: = | U82: =U83+U85+U87+U90 -> 22455000
C83: 생계비 | E83: =K83/1000 -> 13200 | F83: =U83/1000 -> 13200 | G83: =F83-E83 -> 0 | H83: =+F83/E83 -> 1 | K83: 13200000 | S83: 소계 | T83: = | U83: =U84 -> 13200000
I84: 1.부식및간식비(보조금) | J84: = | K84: 13200000 | L84: 1.부식및간식비(보조금) | M84: 1100000 | N84: × | O84: 12 | P84: 월 | T84: = | U84: =M84*O84 -> 13200000
C85: 수용기관경비 | E85: =K85/1000 -> 2000 | F85: =U85/1000 -> 2800 | G85: =F85-E85 -> 800 | H85: =+F85/E85 -> 1.4 | K85: 2000000 | S85: 소계 | T85: = | U85: =U86 -> 2800000
I86: 1.생필품구입(보조금) | J86: = | K86: 2000000 | L86: 1.생필품구입(보조금) | M86: 280000 | N86: × | O86: 10 | P86: 월 | T86: = | U86: =M86*O86 -> 2800000
C87: 피복비 | E87: =K87/1000 -> 2470 | F87: =U87/1000 -> 3170 | G87: =F87-E87 -> 700 | H87: =+F87/E87 -> 1.2834008 | K87: 2470000 | S87: 소계 | T87: = | U87: =U88+U89 -> 3170000
I88: 1.피복비(보조금) | J88: = | K88: 2000000 | L88: 1.피복비 (보조금 2,400,000) (후원금 300,000) | M88: 225000 | N88: × | O88: 12 | P88: 회 | T88: = | U88: =M88*O88 -> 2700000
I89: 2.세탁&수선비(보조금) | J89: = | K89: 470000 | L89: 2.세탁&수선비(보조금) | M89: 470000 | N89: × | O89: 1 | P89: 회 | T89: = | U89: =M89*O89 -> 470000
C90: 의료비 | E90: =K90/1000 -> 3285 | F90: =U90/1000 -> 3285 | G90: =F90-E90 -> 0 | H90: =+F90/E90 -> 1 | K90: 3285000 | S90: 소계 | T90: = | U90: =U91+U92+U93+U94+U95 -> 3285000
I91: 1.건강검진비(보조금) | J91: = | K91: 300000 | L91: 1.건강검진비(보조금) | M91: 10000 | N91: × | O91: 5 | P91: 명 | Q91: × | R91: 6 | S91: 회 | T91: = | U91: =M91*O91*R91 -> 300000
I92: 2.의료비(응급치료등)(보조금) | J92: = | K92: 540000 | L92: 2.의료비(응급치료등)(보조금) | M92: 36000 | N92: × | O92: 5 | P92: 명 | Q92: × | R92: 3 | S92: 회 | T92: = | U92: =M92*O92*R92 -> 540000
I93: 3.병원진료비(보조금) | J93: = | K93: 360000 | L93: 3.병원진료비(보조금) | M93: 10000 | N93: × | O93: 3 | P93: 명 | Q93: × | R93: 12 | S93: 월 | T93: = | U93: =M93*O93*R93 -> 360000
I94: 4.약품구입(보조금) | J94: = | K94: 185000 | L94: 4.약품구입(보조금) | M94: 185000 | N94: × | O94: 1 | P94: 분기 | T94: = | U94: =M94*O94 -> 185000
I95: 5.심리치료재료및진행비 (보조금1,000,000) (지정후원금 900,000) | J95: = | K95: 1900000 | L95: 5.심리치료재료및진행비 (보조금1,000,000) (지정후원금 900,000) | M95: 190000 | N95: × | O95: 10 | P95: 회 | T95: = | U95: =M95*O95 -> 1900000
B96: 교육비 | E96: =K96/1000 -> 5425 | F96: =U96/1000 -> 5425 | G96: =F96-E96 -> 0 | H96: =E96/F96*100% -> 1 | K96: 5425000 | S96: 소계 | T96: = | U96: =U97+U98+U99+U100+U101+U102 -> 5425000
C97: 수업료 | E97: =K97/1000 -> 2500 | F97: =U97/1000 -> 2500 | G97: =F97-E97 -> 0 | H97: =E97/F97*100% -> 1 | I97: 1.특기적성,학습지원(보조금) | J97: = | K97: 2500000 | L97: 1.특기적성,학습지원(보조금) | M97: 100000 | N97: × | O97: 5 | P97: 명 | Q97: × | R97: 5 | S97: 회 | T97: = | U97: =M97*O97*R97 -> 2500000
C98: 학용품비 | E98: =K98/1000 -> 465 | F98: =U98/1000 -> 465 | G98: =F98-E98 -> 0 | H98: =E98/F98*100% -> 1 | I98: 1.학용품비(보조금) | J98: = | K98: 465000 | L98: 1.학용품비(보조금) | M98: 46500 | N98: × | O98: 10 | P98: 월 | T98: = | U98: =M98*O98 -> 465000
C99: 교통비 | E99: =K99/1000 -> 800 | F99: =U99/1000 -> 800 | G99: =F99-E99 -> 0 | H99: =E99/F99*100% -> 1 | I99: 1.교통카드충전 및 교통비(보조금) | J99: = | K99: 800000 | L99: 1.교통카드충전 및 교통비(보조금) | M99: 80000 | N99: × | O99: 10 | P99: 회 | T99: = | U99: =M99*O99 -> 800000
C100: 용돈(기타) | E100: =K100/1000 -> 1060 | F100: =U100/1000 -> 1060 | G100: =F100-E100 -> 0 | H100: =E100/F100*100% -> 1 | I100: 1.아동용돈(보조금) | J100: = | K100: 1060000 | L100: 1.아동용돈(보조금) | M100: 106000 | N100: × | O100: 10 | P100: 회 | T100: = | U100: =M100*O100 -> 1060000
...
