Workbook
Name 경상보조금: #REF!
Name 경상보조금: #REF!
Name 국고보조금: #REF!
Name 국고보조금: #REF!
Name 기타보조금: #REF!
Name 기타보조금: #REF!
Name 법인전입금: #REF!
Name 법인전입금: #REF!
Name 보조금: #REF!
Name 보조금: #REF!
Name 사업수입: #REF!
Name 사업수입: #REF!
Name 사용자부담금: #REF!
Name 사용자부담금: #REF!
Name 시군구보조금: #REF!
Name 시군구보조금: #REF!
Name 시도보조금: #REF!
Name 시도보조금: #REF!
Name ㅇ: #REF!
Name ㅇㅇ: #REF!
Name ㅇㅇㅇㅇㅇㅇㅇㅇ: #REF!
Name 이월금: #REF!
Name 이월금: #REF!
Name 자본보조금: #REF!
Name 자본보조금: #REF!
Name 자체수입: #REF!
Name 자체수입: #REF!
Name 잡수입: #REF!
Name 잡수입: #REF!
Name 추경세입: #REF!
Name 추경세입: #REF!
Name 추경세출: '3.세출내역서'!$E$4:$E$50
Name 추경세출: #REF!
Name 추경세출: #REF!
Name 후원금: #REF!
Name 후원금: #REF!

Sheet 예산총칙
B3: 2022년 대전서부아동보호전문기관 예산총칙
C5: 1. 예산의 규모
C6: 1) 총 세입액 | D6: ='1.세입세출총괄표'!C7 -> 1342317 | E6: 천원,
C7: 2) 총 세출액 | D7: ='1.세입세출총괄표'!H7 -> 1342317 | E7: 천원이다.
C10: 2. 예산의 내역
C11: 세입·세출의 명세는 세입·세출예산서와 같다.
C14: 가. 세입의 주요 재원은 다음과 같다.
C15: 1) 보조금 | D15: ='1.세입세출총괄표'!C9 -> 935130 | E15: 천원,
C16: 2) 후원금 | D16: ='1.세입세출총괄표'!C12 -> 116000 | E16: 천원,
C17: 3) 법인전입금 | D17: ='1.세입세출총괄표'!C16 -> 290187 | E17: 천원,
C18: 4) 이월금 | D18: ='1.세입세출총괄표'!C27 -> 0 | E18: 천원,
C19: 5) 잡수입 | D19: ='1.세입세출총괄표'!C30 -> 1000 | E19: 천원이다.
C22: 나. 세출의 내용은 다음과 같다.
C23: 1) 인건비 | D23: ='1.세입세출총괄표'!H9 -> 977017 | E23: 천원,
C24: 2) 업무추진비 | D24: ='1.세입세출총괄표'!H10 -> 5400 | E24: 천원,
C25: 3) 운영비 | D25: ='1.세입세출총괄표'!H11 -> 119235 | E25: 천원,
C26: 4) 재산조성비 | D26: ='1.세입세출총괄표'!H12 -> 1000 | E26: 천원,
C27: 5) 사업비 | D27: ='1.세입세출총괄표'!H16 -> 238665 | E27: 천원,
C28: 6) 잡지출 | D28: ='1.세입세출총괄표'!H27 -> 50 | E28: 천원,
C29: 7) 예비비 및 기타 | D29: ='1.세입세출총괄표'!H28 -> 500 | E29: 천원,
C30: 8) 차기이월금 | D30: ='1.세입세출총괄표'!H31 -> 450 | E30: 천원이다.

Sheet 1.세입세출총괄표
A1: 대전서부아동보호전문기관
A3: ◎ 2022년도 예산 -세입·세출 총괄표
J4: (단위= 천원,%)
A5: 관/항/목 | B5: 2021년 | C5: 2022년 | D5: 전년 대비 | F5: 관/항/목 | G5: 2021년 | H5: 2022년 | I5: =+D5 -> 전년 대비
B6: 현예산ⓐ | C6: 예산ⓑ | D6: 금액ⓑ-ⓐ | E6: % | G6: 현예산ⓐ | H6: 예산ⓑ | I6: =+D6 -> 금액ⓑ-ⓐ | J6: %
A7: 세입계 | B7: =+B8+B12+B16+B27+B30 -> 1085145 | C7: =+C8+C12+C16+C27+C30 -> 1342317 | D7: =+C7-B7 -> 257172 | E7: =IF(C7>0,+C7/B7,"") -> 1.2369932 | F7: 세출계 | G7: =+G8+G12+G16+G27+G28+G31 -> 1085145 | H7: =H31+H28+H27+H16+H12+H8 -> 1342317 | I7: =IF(H7>0,+H7-G7,"") -> 257172 | J7: =IF(H7>0,+H7/G7,"") -> 1.2369932
A8: 보조금수입 | B8: =+B10+B9 -> 731218 | C8: =+C10+C9 -> 935130 | D8: =+C8-B8 -> 203912 | E8: =IF(C8>0,+C8/B8,"") -> 1.2788662 | F8: 사무비 | G8: =SUM(G9:G11) -> 835468 | H8: =SUM(H9:H11) -> 1101652 | I8: =+H8-G8 -> 266184 | J8: =IF(H8>0,+H8/G8,"") -> 1.3186047
A9: 국시비보조금 | B9: ='2.세입내역서'!E8 -> 731218 | C9: ='2.세입내역서'!F8 -> 935130 | D9: =+C9-B9 -> 203912 | E9: =IF(C9>0,+C9/B9,"") -> 1.2788662 | F9: 인건비 | G9: ='3.세출내역서'!D8 -> 730460 | H9: ='3.세출내역서'!E8 -> 977017 | I9: =+H9-G9 -> 246557 | J9: =IF(H9>0,+H9/G9,"") -> 1.3375366
E10: =IF(C10>0,+C10/B10,"") | F10: 업무추진비 | G10: ='3.세출내역서'!D14 -> 4160 | H10: ='3.세출내역서'!E14 -> 5400 | I10: =+H10-G10 -> 1240 | J10: =IF(H10>0,+H10/G10,"") -> 1.2980769
F11: 운영비 | G11: ='3.세출내역서'!D17 -> 100848 | H11: ='3.세출내역서'!E17 -> 119235 | I11: =+H11-G11 -> 18387 | J11: =IF(H11>0,+H11/G11,"") -> 1.1823239
A12: 후원금수입 | B12: =SUM(B14:B14) -> 116000 | C12: =SUM(C14:C14) -> 116000 | D12: =+C12-B12 -> 0 | E12: =IF(C12>0,+C12/B12,"") -> 1 | F12: 재산조성비 | G12: =SUM(G13:G15) -> 1000 | H12: =SUM(H13:H15) -> 1000 | I12: =+H12-G12 -> 0 | J12: =IF(H12>0,+H12/G12,"") -> 1
F13: 시설비 | G13: ='3.세출내역서'!D26 -> 0 | H13: ='3.세출내역서'!E26 -> 0 | J13: =IF(H13>0,+H13/G13,"")
A14: 지정후원금 | B14: ='2.세입내역서'!E11 -> 116000 | C14: ='2.세입내역서'!F11 -> 116000 | D14: =+C14-B14 -> 0 | E14: =IF(C14>0,+C14/B14,"") -> 1 | F14: 자산취득비 | G14: ='3.세출내역서'!D27 -> 0 | H14: ='3.세출내역서'!E27 -> 0 | I14: =+H14-G14 -> 0 | J14: =IF(H14>0,+H14/G14,"")
F15: 시설장비유지비 | G15: ='3.세출내역서'!D28 -> 1000 | H15: ='3.세출내역서'!E28 -> 1000 | I15: =+H15-G15 -> 0 | J15: =IF(H15>0,+H15/G15,"") -> 1
A16: 전입금 | B16: =SUM(B17:B19) -> 225938 | C16: =SUM(C17:C19) -> 290187 | D16: =+C16-B16 -> 64249 | E16: =IF(C16>0,+C16/B16,"") -> 1.2843656 | F16: 사업비 | G16: =SUM(G17:G26) -> 241492 | H16: =SUM(H17:H26) -> 238665 | I16: =SUM(I17:I26) -> -2827 | J16: =IF(H16>0,+H16/G16,"") -> 0.98829361
A17: 운영전입금 | B17: ='2.세입내역서'!E14 -> 131726 | C17: ='2.세입내역서'!F14 -> 224062 | D17: =+C17-B17 -> 92336 | E17: =IF(C17>0,+C17/B17,"") -> 1.7009702 | F17: 아동보호기본사업 | G17: ='3.세출내역서'!D31 -> 7600 | H17: ='3.세출내역서'!E31 -> 13000 | I17: =+H17-G17 -> 5400 | J17: =IF(H17>0,+H17/G17,"") -> 1.7105263
A18: 사업전입금 | B18: ='2.세입내역서'!E15 -> 92625 | C18: ='2.세입내역서'!F15 -> 66125 | D18: =+C18-B18 -> -26500 | E18: =IF(C18>0,+C18/B18,"") -> 0.71390013 | F18: 아동학대예방교육사업 | G18: ='3.세출내역서'!D32 -> 1000 | H18: ='3.세출내역서'!E32 -> 1000 | I18: =+H18-G18 -> 0 | J18: =IF(H18>0,+H18/G18,"") -> 1
A19: 기타사업후원전입금 | B19: ='2.세입내역서'!E16 -> 1587 | C19: ='2.세입내역서'!F16 -> 0 | D19: =+C19-B19 -> -1587 | E19: =IF(C19>0,+C19/B19,"") | F19: 아동학대예방홍보사업 | G19: ='3.세출내역서'!D33 -> 2400 | H19: ='3.세출내역서'!E33 -> 4100 | I19: =+H19-G19 -> 1700 | J19: =IF(H19>0,+H19/G19,"") -> 1.7083333
F20: 직원역량강화사업 | G20: ='3.세출내역서'!D34 -> 3960 | H20: ='3.세출내역서'!E34 -> 9620 | I20: =+H20-G20 -> 5660 | J20: =IF(H20>0,+H20/G20,"") -> 2.4292929
F21: 지역협력사업 | G21: 0 | H21: ='3.세출내역서'!E35 -> 1000 | I21: =+H21-G21 -> 1000
F22: 심리치료지원사업 | G22: ='3.세출내역서'!D36 -> 82045 | H22: ='3.세출내역서'!E36 -> 82045 | I22: =+H22-G22 -> 0 | J22: =IF(H22>0,+H22/G22,"") -> 1
F23: 홈케어플래너서포터즈 | G23: ='3.세출내역서'!D37 -> 116000 | H23: ='3.세출내역서'!E37 -> 116000 | I23: =+H23-G23 -> 0 | J23: =IF(H23>0,+H23/G23,"") -> 1
F24: 위기아동지원사업 | G24: ='3.세출내역서'!D38 -> 25000 | H24: ='3.세출내역서'!E38 -> 10000 | I24: =+H24-G24 -> -15000 | J24: =IF(H24>0,+H24/G24,"") -> 0.4
F25: 도담도담 부모 프로그램 | G25: ='3.세출내역서'!D39 -> 1900 | H25: ='3.세출내역서'!E39 -> 1900 | I25: =H25-G25 -> 0 | J25: =IF(H25>0,+H25/G25,"") -> 1
F26: ='3.세출내역서'!C40 -> 아동의건강한성장도모하기 | G26: ='3.세출내역서'!D40 -> 1587 | H26: ='3.세출내역서'!E40 -> 0 | I26: =H26-G26 -> -1587 | J26: =IF(H26>0,+H26/G26,"")
A27: 이월금 | B27: =SUM(B28:B29) -> 10988 | C27: =SUM(C28:C29) -> 0 | D27: =+C27-B27 -> -10988 | F27: 잡지출 | G27: ='3.세출내역서'!D43 -> 50 | H27: =+'3.세출내역서'!E43 -> 50 | I27: =+H27-G27 -> 0 | J27: =IF(H27>0,+H27/G27,"") -> 1
A28: 전년도이월금 | B28: ='2.세입내역서'!E19 -> 6284 | C28: ='2.세입내역서'!F19 -> 0 | D28: =+C28-B28 -> -6284 | F28: 예비비 | G28: =SUM(G29:G30) -> 6660 | H28: =SUM(H29:H30) -> 500 | I28: =+H28-G28 -> -6160 | J28: =IF(H28>0,+H28/G28,"") -> 0.075075075
A29: 전년도이월금 (후원금) | B29: ='2.세입내역서'!E20 -> 4704 | C29: =-'2.세입내역서'!F20 -> 0 | D29: =+C29-B29 -> -4704 | E29: =IF(C29>0,+C29/B29,"") | F29: 예비비 | G29: ='3.세출내역서'!D46 -> 500 | H29: ='3.세출내역서'!E46 -> 500 | I29: =+H29-G29 -> 0 | J29: =IF(H29>0,+H29/G29,"") -> 1
A30: 잡수입 | B30: =SUM(B31:B32) -> 1001 | C30: =SUM(C31:C32) -> 1000 | D30: =+C30-B30 -> -1 | E30: =IF(C30>0,+C30/B30,"") -> 0.999001 | F30: 반환금 | G30: ='3.세출내역서'!D47 -> 6160 | H30: ='3.세출내역서'!E47 -> 0 | I30: =+H30-G30 -> -6160 | J30: =IF(H30>0,+H30/G30,"")
A31: 기타예금이자수입 | B31: ='2.세입내역서'!E23 -> 150 | C31: ='2.세입내역서'!F23 -> 150 | D31: =+C31-B31 -> 0 | E31: =IF(C31>0,+C31/B31,"") -> 1 | F31: 차기이월금 | G31: =G32 -> 475 | H31: =H32 -> 450 | I31: =+H31-G31 -> -25 | J31: =IF(H31>0,+H31/G31,"") -> 0.94736842
A32: 기타잡수입 | B32: ='2.세입내역서'!E24 -> 851 | C32: ='2.세입내역서'!F24 -> 850 | D32: =+C32-B32 -> -1 | E32: =IF(C32>0,+C32/B32,"") -> 0.99882491 | F32: 차기이월금 | G32: ='3.세출내역서'!D50 -> 475 | H32: ='3.세출내역서'!E50 -> 450 | I32: =+H32-G32 -> -25 | J32: =IF(H32>0,+H32/G32,"") -> 0.94736842

Sheet 2.세입내역서
A1: ◎ 2022년 예산 세입명세서
G2: (단위: 천원,%) | R2: (단위: 원)
A3: 관 | B3: 항 | C3: 목 | D3: 세목 | E3: 2021년 | F3: 2022년 | G3: 전년 대비 | I3: 2022년 산출내역
E4: 현예산ⓐ | F4: 예산ⓑ | G4: 금액ⓑ-ⓐ | H4: %
A5: 합 계 | E5: 1085145 | F5: 1342317 | G5: 257172 | H5: 1.2369932
A6: 보조금수입 | E6: 731218 | F6: 935130 | G6: 203912 | H6: 1.2788662
B7: 보조금수입 | E7: 731218 | F7: 935130 | G7: 203912 | H7: 1.2788662
C8: 국시비보조금 | E8: 731218 | F8: 935130 | G8: 203912 | H8: 1.2788662 | I8: 인건비(17명), 운영비, 사업비, 종사자수당(4명), 지자체 인력지원(4명) | R8: 935130000
A9: 후원금수입 | E9: 116000 | F9: 116000 | G9: 0 | H9: 1
B10: 후원금수입 | E10: 116000 | F10: 116000 | G10: 0 | H10: 1 | Q10: =
C11: 지정후원금 | E11: 116000 | F11: 116000 | G11: 0 | H11: 1 | I11: 홈케어플래너서포터즈지원사업 | J11: 116000000 | K11: × | L11: 1 | M11: 년 | Q11: = | R11: 116000000
A12: 전입금 | E12: 225938 | F12: 290187 | G12: 64249 | H12: 1.2843656
B13: 전입금 | E13: 225938 | F13: 290187 | G13: 64249 | H13: 1.2843656
C14: 운영전입금 | E14: 131726 | F14: 224062 | G14: 92336 | H14: 1.7009702 | I14: 인건비, 업무추진비, 운영비, 재산조성비(시설장비유지비), 사업운영비 | R14: 224062000
C15: 사업전입금 | E15: 92625 | F15: 66125 | G15: -26500 | H15: 0.71390013 | I15: 심리치료지원사업, 도담도담 부모 프로그램사업, 위기아동지원사업 | R15: 66125000
C16: 기타사업후원전입금 | E16: 1587 | F16: 0 | G16: -1587
A17: 이월금 | E17: 10988 | F17: 0 | G17: -10988
B18: 이월금 | E18: 10988 | F18: 0 | G18: -10988
C19: 전년도이월금 | E19: 6284 | F19: 0 | G19: -6284
C20: 전년도이월금 (후원금) | E20: 4704 | F20: 0 | G20: -4704
A21: 잡수입 | E21: 1001 | F21: 1000 | G21: -1 | H21: 0.999001
B22: 잡수입 | E22: 1001 | F22: 1000 | G22: -1 | H22: 0.999001 | R22: 1000000
C23: 기타예금이자수입 | E23: 150 | F23: 150 | G23: 0 | H23: 1 | Q23: = | R23: 150000
C24: 기타잡수입 | E24: 851 | F24: 850 | G24: -1 | H24: 0.99882491 | Q24: = | R24: 850000

Sheet 3.세출내역서
A1: ◎ 2022년 예산 세출명세서
F3: (단위= 천원,%) | Q3: (단위: 원)
A4: 관 | B4: 항 | C4: 목 | D4: 2021년 | E4: 2022년 | F4: 전년 대비 | H4: 2022년 산출내역
D5: 현예산ⓐ | E5: 예산ⓑ | F5: 금액ⓑ-ⓐ | G5: %
A6: 합 계 | D6: 1085145 | E6: 1342317 | F6: 257172 | G6: 1.2369932
A7: 사무비 | D7: 835468 | E7: 1101652 | F7: 266184 | G7: 1.3186047 | Q7: 1101652000
B8: 인건비 | D8: 730460 | E8: 977017 | F8: 246557 | G8: 1.3375366 | Q8: 977017000
C9: 급여 | D9: 470167 | E9: 591286 | F9: 121119 | G9: 1.2576085 | H9: 급여 | I9: 49273833 | J9: × | K9: 12 | L9: 월 | P9: = | Q9: 591286000
C10: 제수당 | D10: 142062 | E10: 226056 | F10: 83994 | G10: 1.5912489 | H10: 제수당 | I10: 897047.62 | J10: × | K10: 21 | L10: 명 | M10: × | N10: 12 | O10: 월 | P10: = | Q10: 226056000
C11: 퇴직금및적립금 | D11: 51924 | E11: 70340 | F11: 18416 | G11: 1.3546722 | H11: 퇴직금및적립금 | I11: 5861666.7 | J11: × | K11: 12 | L11: 월 | P11: = | Q11: 70340000
C12: 사회보험부담금 | D12: 61587 | E12: 85635 | F12: 24048 | G12: 1.390472 | H12: 사회보험부담금 | I12: 국민연금4.5%/건강보험3.495%/장기요양12.27%/고용보험1.55%/산재0.91% | P12: = | Q12: 85635000
C13: 기타후생경비 | D13: 4720 | E13: 3700 | F13: -1020 | G13: 0.78389831 | H13: 기타후생경비(문화체험활동, 팀활동비, 경조사비) | I13: 168181.82 | J13: × | K13: 22 | L13: 명 | P13: = | Q13: 3700000
B14: 업무추진비 | D14: 4160 | E14: 5400 | F14: 1240 | G14: 1.2980769 | Q14: 5400000
C15: 기관운영비 | D15: 1800 | E15: 2400 | F15: 600 | G15: 1.3333333 | H15: 유관기관업무협의비 및 기관운영비(전입금) | I15: 200000 | J15: × | K15: 12 | L15: 월 | P15: = | Q15: 2400000
C16: 회의비 | D16: 2360 | E16: 3000 | F16: 640 | G16: 1.2711864 | H16: 유관기관간담회및사례회의비(전입금) | I16: 250000 | J16: × | K16: 12 | L16: 월 | P16: = | Q16: 3000000
B17: 운영비 | D17: 100848 | E17: 119235 | F17: 18387 | G17: 1.1823239 | Q17: 119235000
C18: 여비 | D18: 4200 | E18: 7200 | F18: 3000 | G18: 1.7142857 | H18: 여비 | I18: 600000 | J18: × | K18: 12 | L18: 월 | P18: = | Q18: 7200000
C19: 수용비 및 수수료 | D19: 26622 | E19: 31590 | F19: 4968 | G19: 1.1866126 | H19: 수용비및수수료 | I19: 2632500 | J19: × | K19: 12 | L19: 월 | P19: = | Q19: 31590000
C20: 공공요금 | D20: 18170 | E20: 21920 | F20: 3750 | G20: 1.2063841 | H20: 공공요금 | I20: 1826666.7 | J20: × | K20: 12 | L20: 월 | P20: = | Q20: 21920000
C21: 제세공과금 | D21: 4826 | E21: 4965 | F21: 139 | G21: 1.0288023 | H21: 제세공과금 | I21: 413750 | J21: × | K21: 12 | L21: 월 | P21: = | Q21: 4965000
C22: 차량비 | D22: 25870 | E22: 31820 | F22: 5950 | G22: 1.2299961 | H22: 차량비 | I22: 2651666.7 | J22: × | K22: 12 | L22: 월 | P22: = | Q22: 31820000
C23: 기타운영비 | D23: 21160 | E23: 21740 | F23: 580 | G23: 1.0274102 | H23: 기타운영비 | I23: 1811666.7 | J23: × | K23: 12 | L23: 월 | P23: = | Q23: 21740000
A24: 재산조성비 | D24: 1000 | E24: 1000 | F24: 0 | G24: 1 | Q24: 1000000
B25: 시설비 | D25: 1000 | E25: 1000 | F25: 0 | G25: 1 | Q25: 1000000
C26: 시설비 | D26: 0 | E26: 0 | F26: 0
C27: 자산취득비 | D27: 0 | E27: 0 | F27: 0
C28: 시설장비유지비 | D28: 1000 | E28: 1000 | F28: 0 | G28: 1 | H28: 시설장비유지 | I28: 1000000 | J28: × | K28: 1 | L28: 년 | P28: = | Q28: 1000000
A29: 사업비 | D29: 241492 | E29: 238665 | F29: -2827 | G29: 0.98829361 | Q29: 238665000
B30: 사업비 | D30: 241492 | E30: 238665 | F30: -2827 | G30: 0.98829361 | Q30: 238665000
C31: 아동보호기본사업 | D31: 7600 | E31: 13000 | F31: 5400 | G31: 1.7105263 | H31: 사례관리비, 운영위원회, 사례자문위원회 | I31: 1083333.3 | J31: × | K31: 12 | L31: 월 | P31: = | Q31: 13000000
C32: 예방교육사업 | D32: 1000 | E32: 1000 | F32: 0 | G32: 1 | H32: 신고의무자 교육 | I32: 1000000 | J32: × | K32: 1 | L32: 회 | P32: = | Q32: 1000000
C33: 예방홍보사업 | D33: 2400 | E33: 4100 | F33: 1700 | G33: 1.7083333 | H33: 홍보물품 제작 및 아동학대예방 캠페인 진행 | P33: = | Q33: 4100000
C34: 직원역량강화 | D34: 3960 | E34: 9620 | F34: 5660 | G34: 2.4292929 | H34: 직원교육비, 보수교육비, 직원연수비, 직원심리치료비, 충청슈퍼비전회의비, 대전아동단체협의회 워크숍 | I34: 437272.73 | J34: × | K34: 22 | L34: 명 | P34: = | Q34: 9620000
C35: 지역협력사업 | D35: 0 | E35: 1000 | F35: 1000 | H35: 지역협력체계 구축 및 연계 | I35: 83333.333 | J35: × | K35: 12 | L35: 월 | P35: = | Q35: 1000000
C36: 심리치료지원사업 | D36: 82045 | E36: 82045 | F36: 0 | G36: 1 | H36: 학대피해아동심리치료, 행위자및가족치료,집단상담,치료실운영비 | I36: 6837083.3 | J36: × | K36: 12 | L36: 월 | P36: = | Q36: 82045000
C37: 홈케어플래너서포터즈 | D37: 116000 | E37: 116000 | F37: 0 | G37: 1 | H37: 홈케어플래너서포터즈 | I37: 116000000 | J37: × | K37: 1 | L37: 년 | P37: = | Q37: 116000000
C38: 위기아동지원사업 | D38: 25000 | E38: 10000 | F38: -15000 | G38: 0.4 | H38: 저소득가정지원사업 | I38: 500000 | J38: × | K38: 20 | L38: 명 | P38: = | Q38: 10000000
C39: 도담도담 부모 프로그램 | D39: 1900 | E39: 1900 | F39: 0 | G39: 1 | H39: 도담도담 부모 프로그램 | I39: 158330 | J39: × | K39: 12 | L39: 월 | P39: = | Q39: 1900000
C40: 아동의건강한성장도모하기 | D40: 1587 | E40: 0 | F40: -1587
A41: 잡지출 | D41: 50 | E41: 50 | F41: 0 | G41: 1 | Q41: 50000
B42: 잡지출 | D42: 50 | E42: 50 | F42: 0 | G42: 1 | Q42: 50000
C43: 잡지출 | D43: 50 | E43: 50 | F43: 0 | G43: 1 | H43: 잡지출 | I43: 50000 | J43: × | K43: 1 | L43: 회 | P43: = | Q43: 50000
A44: 예비비 및 기타 | D44: 6660 | E44: 500 | F44: -6160 | G44: 0.075075075 | H44: 예비비 및 기타 | Q44: 500000
B45: 예비비 및 기타 | D45: 6660 | E45: 500 | F45: -6160 | G45: 0.075075075 | P45: = | Q45: 500000
C46: 예비비 | D46: 500 | E46: 500 | F46: 0 | G46: 1 | H46: 예비비 | P46: = | Q46: 500000
C47: 반환금 | D47: 6160 | E47: 0 | F47: -6160 | H47: 보조금반환금 | P47: = | Q47: 0
A48: 차기이월금 | D48: 475 | E48: 450 | F48: -25 | G48: 0.94736842 | H48: 차기이월금 | Q48: 450000
B49: 차기이월금 | D49: 475 | E49: 450 | F49: -25 | G49: 0.94736842 | Q49: 450000
C50: 차기이월금 | D50: 475 | E50: 450 | F50: -25 | G50: 0.94736842 | H50: 차기이월금 | P50: = | Q50: 450000
